Workbook
Name Full: #REF!
Name Glossary: #REF!
Name Introduction: #REF!
Name scope: #REF!
Name table1: [1]Contents!#REF!

Sheet Summary
A1: Quota | B1: 132526
B3: Current | D3: Proposed
A4: Electorate | B4: Population | C4: Variation from Quota | D4: Population | E4: Variation from Quota
A5: BRISBANE | B5: =SUMIFS(Data!$G:$G,Data!$A:$A,Summary!$A5) -> 133341 | C5: =(B5/$B$1)-1 -> 0.0061497367 | D5: =SUMIFS(Data!$G:$G,Data!$I:$I,Summary!$A5) -> 131518 | E5: =(D5/$B$1)-1 -> -0.0076060547
A6: DICKSON | B6: =SUMIFS(Data!$G:$G,Data!$A:$A,Summary!$A6) -> 124841 | C6: =(B6/$B$1)-1 -> -0.057988621 | D6: =SUMIFS(Data!$G:$G,Data!$I:$I,Summary!$A6) -> 133558 | E6: =(D6/$B$1)-1 -> 0.0077871512
A7: LONGMAN | B7: =SUMIFS(Data!$G:$G,Data!$A:$A,Summary!$A7) -> 156827 | C7: =(B7/$B$1)-1 -> 0.18336779 | D7: =SUMIFS(Data!$G:$G,Data!$I:$I,Summary!$A7) -> 136556 | E7: =(D7/$B$1)-1 -> 0.030409127
A8: LILLEY | B8: =SUMIFS(Data!$G:$G,Data!$A:$A,Summary!$A8) -> 122571 | C8: =(B8/$B$1)-1 -> -0.075117335 | D8: =SUMIFS(Data!$G:$G,Data!$I:$I,Summary!$A8) -> 136003 | E8: =(D8/$B$1)-1 -> 0.026236361
A9: RYAN | B9: =SUMIFS(Data!$G:$G,Data!$A:$A,Summary!$A9) -> 118545 | C9: =(B9/$B$1)-1 -> -0.10549628 | D9: =SUMIFS(Data!$G:$G,Data!$I:$I,Summary!$A9) -> 129469 | E9: =(D9/$B$1)-1 -> -0.023067172
A10: PETRIE | B10: =SUMIFS(Data!$G:$G,Data!$A:$A,Summary!$A10) -> 143120 | C10: =(B10/$B$1)-1 -> 0.079939031 | D10: =SUMIFS(Data!$G:$G,Data!$I:$I,Summary!$A10) -> 132141 | E10: =(D10/$B$1)-1 -> -0.0029050903

Sheet Data
A1: Electorate | B1: Statistical Area Level 2 (SA2) Code (2021 SA2s) | C1: Statistical Area Level 2 (SA2) Name (2021 SA2s) | D1: Statistical Area Level 1 (SA1) Code (11-digit) (2021 SA1s) | E1: Statistical Area Level 1 (SA1) Code (7-digit) (2021 SA1s) | F1: Actual enrolments 28/07/2026 | G1: Projected enrolment 27/08/2028 | H1: Growth (%) | I1: New Allocation
A2: BRISBANE | B2: 302011025 | C2: Everton Park | D2: 30201102516 | E2: 3102516 | F2: 82 | G2: 83 | H2: =(G2-F2)/F2 -> 0.012195122 | I2: RYAN
A3: BRISBANE | B3: 302021031 | C3: Kedron - Gordon Park | D3: 30202103101 | E3: 3103101 | F3: 454 | G3: 459 | H3: =(G3-F3)/F3 -> 0.011013216 | I3: =A3 -> BRISBANE
A4: BRISBANE | B4: 302021031 | C4: Kedron - Gordon Park | D4: 30202103102 | E4: 3103102 | F4: 432 | G4: 459 | H4: =(G4-F4)/F4 -> 0.0625 | I4: =A4 -> BRISBANE
A5: BRISBANE | B5: 302021031 | C5: Kedron - Gordon Park | D5: 30202103103 | E5: 3103103 | F5: 280 | G5: 281 | H5: =(G5-F5)/F5 -> 0.0035714286 | I5: =A5 -> BRISBANE
A6: BRISBANE | B6: 302021031 | C6: Kedron - Gordon Park | D6: 30202103125 | E6: 3103125 | F6: 346 | G6: 335 | H6: =(G6-F6)/F6 -> -0.031791908 | I6: =A6 -> BRISBANE
A7: BRISBANE | B7: 302021031 | C7: Kedron - Gordon Park | D7: 30202103126 | E7: 3103126 | F7: 329 | G7: 319 | H7: =(G7-F7)/F7 -> -0.030395137 | I7: =A7 -> BRISBANE
A8: BRISBANE | B8: 302021031 | C8: Kedron - Gordon Park | D8: 30202103127 | E8: 3103127 | F8: 386 | G8: 381 | H8: =(G8-F8)/F8 -> -0.012953368 | I8: =A8 -> BRISBANE
A9: BRISBANE | B9: 302021031 | C9: Kedron - Gordon Park | D9: 30202103128 | E9: 3103128 | F9: 245 | G9: 251 | H9: =(G9-F9)/F9 -> 0.024489796 | I9: =A9 -> BRISBANE
A10: BRISBANE | B10: 302021031 | C10: Kedron - Gordon Park | D10: 30202103129 | E10: 3103129 | F10: 282 | G10: 282 | H10: =(G10-F10)/F10 -> 0 | I10: =A10 -> BRISBANE
A11: BRISBANE | B11: 302021031 | C11: Kedron - Gordon Park | D11: 30202103130 | E11: 3103130 | F11: 265 | G11: 281 | H11: =(G11-F11)/F11 -> 0.060377358 | I11: =A11 -> BRISBANE
A12: BRISBANE | B12: 302021031 | C12: Kedron - Gordon Park | D12: 30202103131 | E12: 3103131 | F12: 298 | G12: 302 | H12: =(G12-F12)/F12 -> 0.013422819 | I12: =A12 -> BRISBANE
A13: BRISBANE | B13: 302021032 | C13: Stafford | D13: 30202103206 | E13: 3103206 | F13: 267 | G13: 274 | H13: =(G13-F13)/F13 -> 0.026217228 | I13: =A13 -> BRISBANE
A14: BRISBANE | B14: 302021032 | C14: Stafford | D14: 30202103209 | E14: 3103209 | F14: 258 | G14: 270 | H14: =(G14-F14)/F14 -> 0.046511628 | I14: =A14 -> BRISBANE
... A19: BRISBANE | B19: 302021032 | C19: Stafford | D19: 30202103221 | E19: 3103221 | F19: 231 | G19: 223 | H19: =(G19-F19)/F19 -> -0.034632035 | I19: =A19 -> BRISBANE
A20: BRISBANE | B20: 302021032 | C20: Stafford | D20: 30202103223 | E20: 3103223 | F20: 0 | G20: 0 | H20: 0 | I20: =A20 -> BRISBANE
A21: BRISBANE | B21: 302021032 | C21: Stafford | D21: 30202103225 | E21: 3103225 | F21: 4 | G21: 4 | H21: =(G21-F21)/F21 -> 0 | I21: =A21 -> BRISBANE
A22: BRISBANE | B22: 302031036 | C22: Brisbane Airport | D22: 30203103603 | E22: 3103603 | F22: 0 | G22: 0 | H22: 0 | I22: =A22 -> BRISBANE
A23: BRISBANE | B23: 302031037 | C23: Eagle Farm - Pinkenba | D23: 30203103705 | E23: 3103705 | F23: 257 | G23: 338 | H23: =(G23-F23)/F23 -> 0.3151751 | I23: =A23 -> BRISBANE
A24: BRISBANE | B24: 302031037 | C24: Eagle Farm - Pinkenba | D24: 30203103706 | E24: 3103706 | F24: 170 | G24: 225 | H24: =(G24-F24)/F24 -> 0.32352941 | I24: =A24 -> BRISBANE
A25: BRISBANE | B25: 302031037 | C25: Eagle Farm - Pinkenba | D25: 30203103707 | E25: 3103707 | F25: 323 | G25: 368 | H25: =(G25-F25)/F25 -> 0.13931889 | I25: =A25 -> BRISBANE
A26: BRISBANE | B26: 302031037 | C26: Eagle Farm - Pinkenba | D26: 30203103708 | E26: 3103708 | F26: 801 | G26: 1126 | H26: =(G26-F26)/F26 -> 0.40574282 | I26: =A26 -> BRISBANE
A27: BRISBANE | B27: 304041098 | C27: Enoggera | D27: 30404109801 | E27: 3109801 | F27: 221 | G27: 214 | H27: =(G27-F27)/F27 -> -0.031674208 | I27: =A27 -> BRISBANE
A28: BRISBANE | B28: 304041098 | C28: Enoggera | D28: 30404109802 | E28: 3109802 | F28: 337 | G28: 332 | H28: =(G28-F28)/F28 -> -0.014836795 | I28: =A28 -> BRISBANE
A29: BRISBANE | B29: 304041098 | C29: Enoggera | D29: 30404109803 | E29: 3109803 | F29: 461 | G29: 475 | H29: =(G29-F29)/F29 -> 0.030368764 | I29: =A29 -> BRISBANE
A30: BRISBANE | B30: 304041098 | C30: Enoggera | D30: 30404109809 | E30: 3109809 | F30: 423 | G30: 428 | H30: =(G30-F30)/F30 -> 0.011820331 | I30: =A30 -> BRISBANE
A31: BRISBANE | B31: 304041098 | C31: Enoggera | D31: 30404109811 | E31: 3109811 | F31: 278 | G31: 285 | H31: =(G31-F31)/F31 -> 0.025179856 | I31: =A31 -> BRISBANE
A32: BRISBANE | B32: 304041098 | C32: Enoggera | D32: 30404109812 | E32: 3109812 | F32: 570 | G32: 598 | H32: =(G32-F32)/F32 -> 0.049122807 | I32: =A32 -> BRISBANE
A33: BRISBANE | B33: 305011105 | C33: Brisbane City | D33: 30501110501 | E33: 3110501 | F33: 349 | G33: 406 | H33: =(G33-F33)/F33 -> 0.16332378 | I33: =A33 -> BRISBANE
A34: BRISBANE | B34: 305011105 | C34: Brisbane City | D34: 30501110505 | E34: 3110505 | F34: 82 | G34: 93 | H34: =(G34-F34)/F34 -> 0.13414634 | I34: =A34 -> BRISBANE
... A43: BRISBANE | B43: 305011105 | C43: Brisbane City | D43: 30501110520 | E43: 3110520 | F43: 540 | G43: 557 | H43: =(G43-F43)/F43 -> 0.031481481 | I43: =A43 -> BRISBANE
A44: BRISBANE | B44: 305011105 | C44: Brisbane City | D44: 30501110521 | E44: 3110521 | F44: 0 | G44: 0 | H44: 0 | I44: =A44 -> BRISBANE
A45: BRISBANE | B45: 305011105 | C45: Brisbane City | D45: 30501110522 | E45: 3110522 | F45: 269 | G45: 305 | H45: =(G45-F45)/F45 -> 0.133829 | I45: =A45 -> BRISBANE
A46: BRISBANE | B46: 305011105 | C46: Brisbane City | D46: 30501110523 | E46: 3110523 | F46: 203 | G46: 226 | H46: =(G46-F46)/F46 -> 0.11330049 | I46: =A46 -> BRISBANE
A47: BRISBANE | B47: 305011105 | C47: Brisbane City | D47: 30501110526 | E47: 3110526 | F47: 302 | G47: 363 | H47: =(G47-F47)/F47 -> 0.20198675 | I47: =A47 -> BRISBANE
A48: BRISBANE | B48: 305011105 | C48: Brisbane City | D48: 30501110527 | E48: 3110527 | F48: 535 | G48: 639 | H48: =(G48-F48)/F48 -> 0.19439252 | I48: =A48 -> BRISBANE
A49: BRISBANE | B49: 305011105 | C49: Brisbane City | D49: 30501110528 | E49: 3110528 | F49: 153 | G49: 175 | H49: =(G49-F49)/F49 -> 0.14379085 | I49: =A49 -> BRISBANE
A50: BRISBANE | B50: 305011105 | C50: Brisbane City | D50: 30501110529 | E50: 3110529 | F50: 299 | G50: 331 | H50: =(G50-F50)/F50 -> 0.10702341 | I50: =A50 -> BRISBANE
A51: BRISBANE | B51: 305011105 | C51: Brisbane City | D51: 30501110530 | E51: 3110530 | F51: 158 | G51: 177 | H51: =(G51-F51)/F51 -> 0.12025316 | I51: =A51 -> BRISBANE
A52: BRISBANE | B52: 305011105 | C52: Brisbane City | D52: 30501110531 | E52: 3110531 | F52: 169 | G52: 198 | H52: =(G52-F52)/F52 -> 0.17159763 | I52: =A52 -> BRISBANE
A53: BRISBANE | B53: 305011105 | C53: Brisbane City | D53: 30501110532 | E53: 3110532 | F53: 162 | G53: 190 | H53: =(G53-F53)/F53 -> 0.17283951 | I53: =A53 -> BRISBANE
A54: BRISBANE | B54: 305011105 | C54: Brisbane City | D54: 30501110533 | E54: 3110533 | F54: 230 | G54: 262 | H54: =(G54-F54)/F54 -> 0.13913043 | I54: =A54 -> BRISBANE
A55: BRISBANE | B55: 305011105 | C55: Brisbane City | D55: 30501110534 | E55: 3110534 | F55: 212 | G55: 219 | H55: =(G55-F55)/F55 -> 0.033018868 | I55: =A55 -> BRISBANE
A56: BRISBANE | B56: 305011105 | C56: Brisbane City | D56: 30501110536 | E56: 3110536 | F56: 68 | G56: 79 | H56: =(G56-F56)/F56 -> 0.16176471 | I56: =A56 -> BRISBANE
... A125: BRISBANE | B125: 305011111 | C125: Spring Hill | D125: 30501111115 | E125: 3111115 | F125: 109 | G125: 129 | H125: =(G125-F125)/F125 -> 0.18348624 | I125: =A125 -> BRISBANE
A126: BRISBANE | B126: 305031119 | C126: Albion | D126: 30503111901 | E126: 3111901 | F126: 0 | G126: 0 | H126: 0 | I126: =A126 -> BRISBANE
A127: BRISBANE | B127: 305031119 | C127: Albion | D127: 30503111905 | E127: 3111905 | F127: 245 | G127: 245 | H127: =(G127-F127)/F127 -> 0 | I127: =A127 -> BRISBANE
A128: BRISBANE | B128: 305031119 | C128: Albion | D128: 30503111906 | E128: 3111906 | F128: 257 | G128: 272 | H128: =(G128-F128)/F128 -> 0.058365759 | I128: =A128 -> BRISBANE
A129: BRISBANE | B129: 305031119 | C129: Albion | D129: 30503111909 | E129: 3111909 | F129: 469 | G129: 469 | H129: =(G129-F129)/F129 -> 0 | I129: =A129 -> BRISBANE
A130: BRISBANE | B130: 305031119 | C130: Albion | D130: 30503111910 | E130: 3111910 | F130: 0 | G130: 0 | H130: 0 | I130: =A130 -> BRISBANE
A131: BRISBANE | B131: 305031119 | C131: Albion | D131: 30503111911 | E131: 3111911 | F131: 196 | G131: 196 | H131: =(G131-F131)/F131 -> 0 | I131: =A131 -> BRISBANE
A132: BRISBANE | B132: 305031119 | C132: Albion | D132: 30503111912 | E132: 3111912 | F132: 162 | G132: 180 | H132: =(G132-F132)/F132 -> 0.11111111 | I132: =A132 -> BRISBANE
A133: BRISBANE | B133: 305031119 | C133: Albion | D133: 30503111913 | E133: 3111913 | F133: 384 | G133: 412 | H133: =(G133-F133)/F133 -> 0.072916667 | I133: =A133 -> BRISBANE
A134: BRISBANE | B134: 305031119 | C134: Albion | D134: 30503111914 | E134: 3111914 | F134: 334 | G134: 356 | H134: =(G134-F134)/F134 -> 0.065868263 | I134: =A134 -> BRISBANE
A135: BRISBANE | B135: 305031119 | C135: Albion | D135: 30503111915 | E135: 3111915 | F135: 172 | G135: 187 | H135: =(G135-F135)/F135 -> 0.087209302 | I135: =A135 -> BRISBANE
A136: BRISBANE | B136: 305031119 | C136: Albion | D136: 30503111916 | E136: 3111916 | F136: 364 | G136: 386 | H136: =(G136-F136)/F136 -> 0.06043956 | I136: =A136 -> BRISBANE
A137: BRISBANE | B137: 305031119 | C137: Albion | D137: 30503111917 | E137: 3111917 | F137: 185 | G137: 195 | H137: =(G137-F137)/F137 -> 0.054054054 | I137: =A137 -> BRISBANE
A138: BRISBANE | B138: 305031119 | C138: Albion | D138: 30503111918 | E138: 3111918 | F138: 384 | G138: 400 | H138: =(G138-F138)/F138 -> 0.041666667 | I138: =A138 -> BRISBANE
A139: BRISBANE | B139: 305031120 | C139: Alderley | D139: 30503112001 | E139: 3112001 | F139: 308 | G139: 320 | H139: =(G139-F139)/F139 -> 0.038961039 | I139: =A139 -> BRISBANE
A140: BRISBANE | B140: 305031120 | C140: Alderley | D140: 30503112002 | E140: 3112002 | F140: 215 | G140: 226 | H140: =(G140-F140)/F140 -> 0.051162791 | I140: =A140 -> BRISBANE
A141: BRISBANE | B141: 305031120 | C141: Alderley | D141: 30503112003 | E141: 3112003 | F141: 264 | G141: 278 | H141: =(G141-F141)/F141 -> 0.053030303 | I141: =A141 -> BRISBANE
A142: BRISBANE | B142: 305031120 | C142: Alderley | D142: 30503112004 | E142: 3112004 | F142: 383 | G142: 379 | H142: =(G142-F142)/F142 -> -0.010443864 | I142: =A142 -> BRISBANE
... A151: BRISBANE | B151: 305031120 | C151: Alderley | D151: 30503112013 | E151: 3112013 | F151: 201 | G151: 211 | H151: =(G151-F151)/F151 -> 0.049751244 | I151: =A151 -> BRISBANE
A152: BRISBANE | B152: 305031120 | C152: Alderley | D152: 30503112014 | E152: 3112014 | F152: 0 | G152: 0 | H152: 0 | I152: =A152 -> BRISBANE
A153: BRISBANE | B153: 305031120 | C153: Alderley | D153: 30503112015 | E153: 3112015 | F153: 222 | G153: 226 | H153: =(G153-F153)/F153 -> 0.018018018 | I153: =A153 -> BRISBANE
A154: BRISBANE | B154: 305031120 | C154: Alderley | D154: 30503112016 | E154: 3112016 | F154: 327 | G154: 331 | H154: =(G154-F154)/F154 -> 0.012232416 | I154: =A154 -> BRISBANE
A155: BRISBANE | B155: 305031121 | C155: Ascot | D155: 30503112101 | E155: 3112101 | F155: 257 | G155: 276 | H155: =(G155-F155)/F155 -> 0.073929961 | I155: =A155 -> BRISBANE
A156: BRISBANE | B156: 305031121 | C156: Ascot | D156: 30503112102 | E156: 3112102 | F156: 367 | G156: 381 | H156: =(G156-F156)/F156 -> 0.038147139 | I156: =A156 -> BRISBANE
A157: BRISBANE | B157: 305031121 | C157: Ascot | D157: 30503112103 | E157: 3112103 | F157: 329 | G157: 345 | H157: =(G157-F157)/F157 -> 0.048632219 | I157: =A157 -> BRISBANE
A158: BRISBANE | B158: 305031121 | C158: Ascot | D158: 30503112104 | E158: 3112104 | F158: 426 | G158: 452 | H158: =(G158-F158)/F158 -> 0.061032864 | I158: =A158 -> BRISBANE
A159: BRISBANE | B159: 305031121 | C159: Ascot | D159: 30503112105 | E159: 3112105 | F159: 355 | G159: 362 | H159: =(G159-F159)/F159 -> 0.01971831 | I159: =A159 -> BRISBANE
A160: BRISBANE | B160: 305031121 | C160: Ascot | D160: 30503112106 | E160: 3112106 | F160: 435 | G160: 457 | H160: =(G160-F160)/F160 -> 0.050574713 | I160: =A160 -> BRISBANE
A161: BRISBANE | B161: 305031121 | C161: Ascot | D161: 30503112107 | E161: 3112107 | F161: 486 | G161: 506 | H161: =(G161-F161)/F161 -> 0.041152263 | I161: =A161 -> BRISBANE
A162: BRISBANE | B162: 305031121 | C162: Ascot | D162: 30503112108 | E162: 3112108 | F162: 229 | G162: 234 | H162: =(G162-F162)/F162 -> 0.021834061 | I162: =A162 -> BRISBANE
A163: BRISBANE | B163: 305031121 | C163: Ascot | D163: 30503112109 | E163: 3112109 | F163: 516 | G163: 544 | H163: =(G163-F163)/F163 -> 0.054263566 | I163: =A163 -> BRISBANE
A164: BRISBANE | B164: 305031121 | C164: Ascot | D164: 30503112110 | E164: 3112110 | F164: 340 | G164: 349 | H164: =(G164-F164)/F164 -> 0.026470588 | I164: =A164 -> BRISBANE
... A244: BRISBANE | B244: 305031126 | C244: Kelvin Grove - Herston | D244: 30503112614 | E244: 3112614 | F244: 350 | G244: 393 | H244: =(G244-F244)/F244 -> 0.12285714 | I244: =A244 -> BRISBANE
A245: BRISBANE | B245: 305031126 | C245: Kelvin Grove - Herston | D245: 30503112616 | E245: 3112616 | F245: 0 | G245: 0 | H245: 0 | I245: =A245 -> BRISBANE
A246: BRISBANE | B246: 305031126 | C246: Kelvin Grove - Herston | D246: 30503112618 | E246: 3112618 | F246: 183 | G246: 201 | H246: =(G246-F246)/F246 -> 0.098360656 | I246: =A246 -> BRISBANE
A247: BRISBANE | B247: 305031126 | C247: Kelvin Grove - Herston | D247: 30503112619 | E247: 3112619 | F247: 153 | G247: 173 | H247: =(G247-F247)/F247 -> 0.13071895 | I247: =A247 -> BRISBANE
A248: BRISBANE | B248: 305031126 | C248: Kelvin Grove - Herston | D248: 30503112620 | E248: 3112620 | F248: 0 | G248: 0 | H248: 0 | I248: =A248 -> BRISBANE
A249: BRISBANE | B249: 305031126 | C249: Kelvin Grove - Herston | D249: 30503112621 | E249: 3112621 | F249: 77 | G249: 83 | H249: =(G249-F249)/F249 -> 0.077922078 | I249: =A249 -> BRISBANE
A250: BRISBANE | B250: 305031126 | C250: Kelvin Grove - Herston | D250: 30503112622 | E250: 3112622 | F250: 302 | G250: 315 | H250: =(G250-F250)/F250 -> 0.043046358 | I250: =A250 -> BRISBANE
A251: BRISBANE | B251: 305031126 | C251: Kelvin Grove - Herston | D251: 30503112623 | E251: 3112623 | F251: 97 | G251: 102 | H251: =(G251-F251)/F251 -> 0.051546392 | I251: =A251 -> BRISBANE
A252: BRISBANE | B252: 305031126 | C252: Kelvin Grove - Herston | D252: 30503112625 | E252: 3112625 | F252: 138 | G252: 155 | H252: =(G252-F252)/F252 -> 0.12318841 | I252: =A252 -> BRISBANE
A253: BRISBANE | B253: 305031126 | C253: Kelvin Grove - Herston | D253: 30503112626 | E253: 3112626 | F253: 184 | G253: 199 | H253: =(G253-F253)/F253 -> 0.081521739 | I253: =A253 -> BRISBANE
A254: BRISBANE | B254: 305031126 | C254: Kelvin Grove - Herston | D254: 30503112627 | E254: 3112627 | F254: 189 | G254: 189 | H254: =(G254-F254)/F254 -> 0 | I254: =A254 -> BRISBANE
A255: BRISBANE | B255: 305031126 | C255: Kelvin Grove - Herston | D255: 30503112628 | E255: 3112628 | F255: 215 | G255: 215 | H255: =(G255-F255)/F255 -> 0 | I255: =A255 -> BRISBANE
A256: BRISBANE | B256: 305031127 | C256: Newmarket | D256: 30503112701 | E256: 3112701 | F256: 481 | G256: 502 | H256: =(G256-F256)/F256 -> 0.043659044 | I256: =A256 -> BRISBANE
A257: BRISBANE | B257: 305031127 | C257: Newmarket | D257: 30503112702 | E257: 3112702 | F257: 344 | G257: 361 | H257: =(G257-F257)/F257 -> 0.049418605 | I257: =A257 -> BRISBANE
A258: BRISBANE | B258: 305031127 | C258: Newmarket | D258: 30503112703 | E258: 3112703 | F258: 436 | G258: 451 | H258: =(G258-F258)/F258 -> 0.03440367 | I258: =A258 -> BRISBANE
A259: BRISBANE | B259: 305031127 | C259: Newmarket | D259: 30503112704 | E259: 3112704 | F259: 526 | G259: 549 | H259: =(G259-F259)/F259 -> 0.043726236 | I259: =A259 -> BRISBANE
A260: BRISBANE | B260: 305031127 | C260: Newmarket | D260: 30503112705 | E260: 3112705 | F260: 233 | G260: 227 | H260: =(G260-F260)/F260 -> -0.025751073 | I260: =A260 -> BRISBANE
... A296: BRISBANE | B296: 305031128 | C296: Newstead - Bowen Hills | D296: 30503112835 | E296: 3112835 | F296: 236 | G296: 236 | H296: =(G296-F296)/F296 -> 0 | I296: =A296 -> BRISBANE
A297: BRISBANE | B297: 305031128 | C297: Newstead - Bowen Hills | D297: 30503112836 | E297: 3112836 | F297: 0 | G297: 0 | H297: 0 | I297: =A297 -> BRISBANE
A298: BRISBANE | B298: 305031128 | C298: Newstead - Bowen Hills | D298: 30503112837 | E298: 3112837 | F298: 138 | G298: 147 | H298: =(G298-F298)/F298 -> 0.065217391 | I298: =A298 -> BRISBANE
A299: BRISBANE | B299: 305031128 | C299: Newstead - Bowen Hills | D299: 30503112838 | E299: 3112838 | F299: 237 | G299: 272 | H299: =(G299-F299)/F299 -> 0.14767932 | I299: =A299 -> BRISBANE
A300: BRISBANE | B300: 305031128 | C300: Newstead - Bowen Hills | D300: 30503112839 | E300: 3112839 | F300: 331 | G300: 348 | H300: =(G300-F300)/F300 -> 0.051359517 | I300: =A300 -> BRISBANE
A301: BRISBANE | B301: 305031128 | C301: Newstead - Bowen Hills | D301: 30503112840 | E301: 3112840 | F301: 255 | G301: 271 | H301: =(G301-F301)/F301 -> 0.062745098 | I301: =A301 -> BRISBANE
A302: BRISBANE | B302: 305031128 | C302: Newstead - Bowen Hills | D302: 30503112841 | E302: 3112841 | F302: 337 | G302: 358 | H302: =(G302-F302)/F302 -> 0.06231454 | I302: =A302 -> BRISBANE
...

Sheet Lookups
A1: Electorate
A2: BRISBANE
A3: DICKSON
A4: LONGMAN
A5: LILLEY
A6: RYAN
A7: PETRIE
C11: {=_xlfn.UNIQUE(Data!A:A)} -> Electorate
C12: BRISBANE
C13: DICKSON
C14: LONGMAN
C15: LILLEY
C16: RYAN
C17: PETRIE
C18: 0

Sheet Brisbane
A1: Electorate | B1: Statistical Area Level 2 (SA2) Code (2021 SA2s) | C1: Statistical Area Level 2 (SA2) Name (2021 SA2s) | D1: Statistical Area Level 1 (SA1) Code (11-digit) (2021 SA1s) | E1: Statistical Area Level 1 (SA1) Code (7-digit) (2021 SA1s) | F1: Actual enrolments 28/07/2026 | G1: Projected enrolment 27/08/2028 | H1: Growth (%)
A2: BRISBANE | B2: 302011025 | C2: Everton Park | D2: 30201102516 | E2: 3102516 | F2: 82 | G2: 83 | H2: =(G2-F2)/F2 -> 0.012195122
A3: BRISBANE | B3: 302021031 | C3: Kedron - Gordon Park | D3: 30202103101 | E3: 3103101 | F3: 454 | G3: 459 | H3: =(G3-F3)/F3 -> 0.011013216
A4: BRISBANE | B4: 302021031 | C4: Kedron - Gordon Park | D4: 30202103102 | E4: 3103102 | F4: 432 | G4: 459 | H4: =(G4-F4)/F4 -> 0.0625
A5: BRISBANE | B5: 302021031 | C5: Kedron - Gordon Park | D5: 30202103103 | E5: 3103103 | F5: 280 | G5: 281 | H5: =(G5-F5)/F5 -> 0.0035714286
A6: BRISBANE | B6: 302021031 | C6: Kedron - Gordon Park | D6: 30202103125 | E6: 3103125 | F6: 346 | G6: 335 | H6: =(G6-F6)/F6 -> -0.031791908
A7: BRISBANE | B7: 302021031 | C7: Kedron - Gordon Park | D7: 30202103126 | E7: 3103126 | F7: 329 | G7: 319 | H7: =(G7-F7)/F7 -> -0.030395137
A8: BRISBANE | B8: 302021031 | C8: Kedron - Gordon Park | D8: 30202103127 | E8: 3103127 | F8: 386 | G8: 381 | H8: =(G8-F8)/F8 -> -0.012953368
A9: BRISBANE | B9: 302021031 | C9: Kedron - Gordon Park | D9: 30202103128 | E9: 3103128 | F9: 245 | G9: 251 | H9: =(G9-F9)/F9 -> 0.024489796
A10: BRISBANE | B10: 302021031 | C10: Kedron - Gordon Park | D10: 30202103129 | E10: 3103129 | F10: 282 | G10: 282 | H10: =(G10-F10)/F10 -> 0
A11: BRISBANE | B11: 302021031 | C11: Kedron - Gordon Park | D11: 30202103130 | E11: 3103130 | F11: 265 | G11: 281 | H11: =(G11-F11)/F11 -> 0.060377358
A12: BRISBANE | B12: 302021031 | C12: Kedron - Gordon Park | D12: 30202103131 | E12: 3103131 | F12: 298 | G12: 302 | H12: =(G12-F12)/F12 -> 0.013422819
A13: BRISBANE | B13: 302021032 | C13: Stafford | D13: 30202103206 | E13: 3103206 | F13: 267 | G13: 274 | H13: =(G13-F13)/F13 -> 0.026217228
... A19: BRISBANE | B19: 302021032 | C19: Stafford | D19: 30202103221 | E19: 3103221 | F19: 231 | G19: 223 | H19: =(G19-F19)/F19 -> -0.034632035
A20: BRISBANE | B20: 302021032 | C20: Stafford | D20: 30202103223 | E20: 3103223 | F20: 0 | G20: 0 | H20: 0
A21: BRISBANE | B21: 302021032 | C21: Stafford | D21: 30202103225 | E21: 3103225 | F21: 4 | G21: 4 | H21: =(G21-F21)/F21 -> 0
A22: BRISBANE | B22: 302031036 | C22: Brisbane Airport | D22: 30203103603 | E22: 3103603 | F22: 0 | G22: 0 | H22: 0
A23: BRISBANE | B23: 302031037 | C23: Eagle Farm - Pinkenba | D23: 30203103705 | E23: 3103705 | F23: 257 | G23: 338 | H23: =(G23-F23)/F23 -> 0.3151751
A24: BRISBANE | B24: 302031037 | C24: Eagle Farm - Pinkenba | D24: 30203103706 | E24: 3103706 | F24: 170 | G24: 225 | H24: =(G24-F24)/F24 -> 0.32352941
A25: BRISBANE | B25: 302031037 | C25: Eagle Farm - Pinkenba | D25: 30203103707 | E25: 3103707 | F25: 323 | G25: 368 | H25: =(G25-F25)/F25 -> 0.13931889
A26: BRISBANE | B26: 302031037 | C26: Eagle Farm - Pinkenba | D26: 30203103708 | E26: 3103708 | F26: 801 | G26: 1126 | H26: =(G26-F26)/F26 -> 0.40574282
A27: BRISBANE | B27: 304041098 | C27: Enoggera | D27: 30404109801 | E27: 3109801 | F27: 221 | G27: 214 | H27: =(G27-F27)/F27 -> -0.031674208
A28: BRISBANE | B28: 304041098 | C28: Enoggera | D28: 30404109802 | E28: 3109802 | F28: 337 | G28: 332 | H28: =(G28-F28)/F28 -> -0.014836795
A29: BRISBANE | B29: 304041098 | C29: Enoggera | D29: 30404109803 | E29: 3109803 | F29: 461 | G29: 475 | H29: =(G29-F29)/F29 -> 0.030368764
A30: BRISBANE | B30: 304041098 | C30: Enoggera | D30: 30404109809 | E30: 3109809 | F30: 423 | G30: 428 | H30: =(G30-F30)/F30 -> 0.011820331
A31: BRISBANE | B31: 304041098 | C31: Enoggera | D31: 30404109811 | E31: 3109811 | F31: 278 | G31: 285 | H31: =(G31-F31)/F31 -> 0.025179856
A32: BRISBANE | B32: 304041098 | C32: Enoggera | D32: 30404109812 | E32: 3109812 | F32: 570 | G32: 598 | H32: =(G32-F32)/F32 -> 0.049122807
A33: BRISBANE | B33: 305011105 | C33: Brisbane City | D33: 30501110501 | E33: 3110501 | F33: 349 | G33: 406 | H33: =(G33-F33)/F33 -> 0.16332378
A34: BRISBANE | B34: 305011105 | C34: Brisbane City | D34: 30501110505 | E34: 3110505 | F34: 82 | G34: 93 | H34: =(G34-F34)/F34 -> 0.13414634
... A43: BRISBANE | B43: 305011105 | C43: Brisbane City | D43: 30501110520 | E43: 3110520 | F43: 540 | G43: 557 | H43: =(G43-F43)/F43 -> 0.031481481
A44: BRISBANE | B44: 305011105 | C44: Brisbane City | D44: 30501110521 | E44: 3110521 | F44: 0 | G44: 0 | H44: 0
A45: BRISBANE | B45: 305011105 | C45: Brisbane City | D45: 30501110522 | E45: 3110522 | F45: 269 | G45: 305 | H45: =(G45-F45)/F45 -> 0.133829
A46: BRISBANE | B46: 305011105 | C46: Brisbane City | D46: 30501110523 | E46: 3110523 | F46: 203 | G46: 226 | H46: =(G46-F46)/F46 -> 0.11330049
A47: BRISBANE | B47: 305011105 | C47: Brisbane City | D47: 30501110526 | E47: 3110526 | F47: 302 | G47: 363 | H47: =(G47-F47)/F47 -> 0.20198675
A48: BRISBANE | B48: 305011105 | C48: Brisbane City | D48: 30501110527 | E48: 3110527 | F48: 535 | G48: 639 | H48: =(G48-F48)/F48 -> 0.19439252
A49: BRISBANE | B49: 305011105 | C49: Brisbane City | D49: 30501110528 | E49: 3110528 | F49: 153 | G49: 175 | H49: =(G49-F49)/F49 -> 0.14379085
A50: BRISBANE | B50: 305011105 | C50: Brisbane City | D50: 30501110529 | E50: 3110529 | F50: 299 | G50: 331 | H50: =(G50-F50)/F50 -> 0.10702341
A51: BRISBANE | B51: 305011105 | C51: Brisbane City | D51: 30501110530 | E51: 3110530 | F51: 158 | G51: 177 | H51: =(G51-F51)/F51 -> 0.12025316
A52: BRISBANE | B52: 305011105 | C52: Brisbane City | D52: 30501110531 | E52: 3110531 | F52: 169 | G52: 198 | H52: =(G52-F52)/F52 -> 0.17159763
A53: BRISBANE | B53: 305011105 | C53: Brisbane City | D53: 30501110532 | E53: 3110532 | F53: 162 | G53: 190 | H53: =(G53-F53)/F53 -> 0.17283951
A54: BRISBANE | B54: 305011105 | C54: Brisbane City | D54: 30501110533 | E54: 3110533 | F54: 230 | G54: 262 | H54: =(G54-F54)/F54 -> 0.13913043
A55: BRISBANE | B55: 305011105 | C55: Brisbane City | D55: 30501110534 | E55: 3110534 | F55: 212 | G55: 219 | H55: =(G55-F55)/F55 -> 0.033018868
A56: BRISBANE | B56: 305011105 | C56: Brisbane City | D56: 30501110536 | E56: 3110536 | F56: 68 | G56: 79 | H56: =(G56-F56)/F56 -> 0.16176471
... A125: BRISBANE | B125: 305011111 | C125: Spring Hill | D125: 30501111115 | E125: 3111115 | F125: 109 | G125: 129 | H125: =(G125-F125)/F125 -> 0.18348624
A126: BRISBANE | B126: 305031119 | C126: Albion | D126: 30503111901 | E126: 3111901 | F126: 0 | G126: 0 | H126: 0
A127: BRISBANE | B127: 305031119 | C127: Albion | D127: 30503111905 | E127: 3111905 | F127: 245 | G127: 245 | H127: =(G127-F127)/F127 -> 0
A128: BRISBANE | B128: 305031119 | C128: Albion | D128: 30503111906 | E128: 3111906 | F128: 257 | G128: 272 | H128: =(G128-F128)/F128 -> 0.058365759
A129: BRISBANE | B129: 305031119 | C129: Albion | D129: 30503111909 | E129: 3111909 | F129: 469 | G129: 469 | H129: =(G129-F129)/F129 -> 0
A130: BRISBANE | B130: 305031119 | C130: Albion | D130: 30503111910 | E130: 3111910 | F130: 0 | G130: 0 | H130: 0
A131: BRISBANE | B131: 305031119 | C131: Albion | D131: 30503111911 | E131: 3111911 | F131: 196 | G131: 196 | H131: =(G131-F131)/F131 -> 0
A132: BRISBANE | B132: 305031119 | C132: Albion | D132: 30503111912 | E132: 3111912 | F132: 162 | G132: 180 | H132: =(G132-F132)/F132 -> 0.11111111
A133: BRISBANE | B133: 305031119 | C133: Albion | D133: 30503111913 | E133: 3111913 | F133: 384 | G133: 412 | H133: =(G133-F133)/F133 -> 0.072916667
A134: BRISBANE | B134: 305031119 | C134: Albion | D134: 30503111914 | E134: 3111914 | F134: 334 | G134: 356 | H134: =(G134-F134)/F134 -> 0.065868263
A135: BRISBANE | B135: 305031119 | C135: Albion | D135: 30503111915 | E135: 3111915 | F135: 172 | G135: 187 | H135: =(G135-F135)/F135 -> 0.087209302
A136: BRISBANE | B136: 305031119 | C136: Albion | D136: 30503111916 | E136: 3111916 | F136: 364 | G136: 386 | H136: =(G136-F136)/F136 -> 0.06043956
A137: BRISBANE | B137: 305031119 | C137: Albion | D137: 30503111917 | E137: 3111917 | F137: 185 | G137: 195 | H137: =(G137-F137)/F137 -> 0.054054054
A138: BRISBANE | B138: 305031119 | C138: Albion | D138: 30503111918 | E138: 3111918 | F138: 384 | G138: 400 | H138: =(G138-F138)/F138 -> 0.041666667
A139: BRISBANE | B139: 305031120 | C139: Alderley | D139: 30503112001 | E139: 3112001 | F139: 308 | G139: 320 | H139: =(G139-F139)/F139 -> 0.038961039
A140: BRISBANE | B140: 305031120 | C140: Alderley | D140: 30503112002 | E140: 3112002 | F140: 215 | G140: 226 | H140: =(G140-F140)/F140 -> 0.051162791
A141: BRISBANE | B141: 305031120 | C141: Alderley | D141: 30503112003 | E141: 3112003 | F141: 264 | G141: 278 | H141: =(G141-F141)/F141 -> 0.053030303
A142: BRISBANE | B142: 305031120 | C142: Alderley | D142: 30503112004 | E142: 3112004 | F142: 383 | G142: 379 | H142: =(G142-F142)/F142 -> -0.010443864
... A151: BRISBANE | B151: 305031120 | C151: Alderley | D151: 30503112013 | E151: 3112013 | F151: 201 | G151: 211 | H151: =(G151-F151)/F151 -> 0.049751244
A152: BRISBANE | B152: 305031120 | C152: Alderley | D152: 30503112014 | E152: 3112014 | F152: 0 | G152: 0 | H152: 0
A153: BRISBANE | B153: 305031120 | C153: Alderley | D153: 30503112015 | E153: 3112015 | F153: 222 | G153: 226 | H153: =(G153-F153)/F153 -> 0.018018018
A154: BRISBANE | B154: 305031120 | C154: Alderley | D154: 30503112016 | E154: 3112016 | F154: 327 | G154: 331 | H154: =(G154-F154)/F154 -> 0.012232416
A155: BRISBANE | B155: 305031121 | C155: Ascot | D155: 30503112101 | E155: 3112101 | F155: 257 | G155: 276 | H155: =(G155-F155)/F155 -> 0.073929961
A156: BRISBANE | B156: 305031121 | C156: Ascot | D156: 30503112102 | E156: 3112102 | F156: 367 | G156: 381 | H156: =(G156-F156)/F156 -> 0.038147139
A157: BRISBANE | B157: 305031121 | C157: Ascot | D157: 30503112103 | E157: 3112103 | F157: 329 | G157: 345 | H157: =(G157-F157)/F157 -> 0.048632219
A158: BRISBANE | B158: 305031121 | C158: Ascot | D158: 30503112104 | E158: 3112104 | F158: 426 | G158: 452 | H158: =(G158-F158)/F158 -> 0.061032864
A159: BRISBANE | B159: 305031121 | C159: Ascot | D159: 30503112105 | E159: 3112105 | F159: 355 | G159: 362 | H159: =(G159-F159)/F159 -> 0.01971831
A160: BRISBANE | B160: 305031121 | C160: Ascot | D160: 30503112106 | E160: 3112106 | F160: 435 | G160: 457 | H160: =(G160-F160)/F160 -> 0.050574713
A161: BRISBANE | B161: 305031121 | C161: Ascot | D161: 30503112107 | E161: 3112107 | F161: 486 | G161: 506 | H161: =(G161-F161)/F161 -> 0.041152263
A162: BRISBANE | B162: 305031121 | C162: Ascot | D162: 30503112108 | E162: 3112108 | F162: 229 | G162: 234 | H162: =(G162-F162)/F162 -> 0.021834061
A163: BRISBANE | B163: 305031121 | C163: Ascot | D163: 30503112109 | E163: 3112109 | F163: 516 | G163: 544 | H163: =(G163-F163)/F163 -> 0.054263566
A164: BRISBANE | B164: 305031121 | C164: Ascot | D164: 30503112110 | E164: 3112110 | F164: 340 | G164: 349 | H164: =(G164-F164)/F164 -> 0.026470588
... A244: BRISBANE | B244: 305031126 | C244: Kelvin Grove - Herston | D244: 30503112614 | E244: 3112614 | F244: 350 | G244: 393 | H244: =(G244-F244)/F244 -> 0.12285714
A245: BRISBANE | B245: 305031126 | C245: Kelvin Grove - Herston | D245: 30503112616 | E245: 3112616 | F245: 0 | G245: 0 | H245: 0
A246: BRISBANE | B246: 305031126 | C246: Kelvin Grove - Herston | D246: 30503112618 | E246: 3112618 | F246: 183 | G246: 201 | H246: =(G246-F246)/F246 -> 0.098360656
A247: BRISBANE | B247: 305031126 | C247: Kelvin Grove - Herston | D247: 30503112619 | E247: 3112619 | F247: 153 | G247: 173 | H247: =(G247-F247)/F247 -> 0.13071895
A248: BRISBANE | B248: 305031126 | C248: Kelvin Grove - Herston | D248: 30503112620 | E248: 3112620 | F248: 0 | G248: 0 | H248: 0
A249: BRISBANE | B249: 305031126 | C249: Kelvin Grove - Herston | D249: 30503112621 | E249: 3112621 | F249: 77 | G249: 83 | H249: =(G249-F249)/F249 -> 0.077922078
A250: BRISBANE | B250: 305031126 | C250: Kelvin Grove - Herston | D250: 30503112622 | E250: 3112622 | F250: 302 | G250: 315 | H250: =(G250-F250)/F250 -> 0.043046358
A251: BRISBANE | B251: 305031126 | C251: Kelvin Grove - Herston | D251: 30503112623 | E251: 3112623 | F251: 97 | G251: 102 | H251: =(G251-F251)/F251 -> 0.051546392
A252: BRISBANE | B252: 305031126 | C252: Kelvin Grove - Herston | D252: 30503112625 | E252: 3112625 | F252: 138 | G252: 155 | H252: =(G252-F252)/F252 -> 0.12318841
A253: BRISBANE | B253: 305031126 | C253: Kelvin Grove - Herston | D253: 30503112626 | E253: 3112626 | F253: 184 | G253: 199 | H253: =(G253-F253)/F253 -> 0.081521739
A254: BRISBANE | B254: 305031126 | C254: Kelvin Grove - Herston | D254: 30503112627 | E254: 3112627 | F254: 189 | G254: 189 | H254: =(G254-F254)/F254 -> 0
A255: BRISBANE | B255: 305031126 | C255: Kelvin Grove - Herston | D255: 30503112628 | E255: 3112628 | F255: 215 | G255: 215 | H255: =(G255-F255)/F255 -> 0
A256: BRISBANE | B256: 305031127 | C256: Newmarket | D256: 30503112701 | E256: 3112701 | F256: 481 | G256: 502 | H256: =(G256-F256)/F256 -> 0.043659044
A257: BRISBANE | B257: 305031127 | C257: Newmarket | D257: 30503112702 | E257: 3112702 | F257: 344 | G257: 361 | H257: =(G257-F257)/F257 -> 0.049418605
A258: BRISBANE | B258: 305031127 | C258: Newmarket | D258: 30503112703 | E258: 3112703 | F258: 436 | G258: 451 | H258: =(G258-F258)/F258 -> 0.03440367
A259: BRISBANE | B259: 305031127 | C259: Newmarket | D259: 30503112704 | E259: 3112704 | F259: 526 | G259: 549 | H259: =(G259-F259)/F259 -> 0.043726236
A260: BRISBANE | B260: 305031127 | C260: Newmarket | D260: 30503112705 | E260: 3112705 | F260: 233 | G260: 227 | H260: =(G260-F260)/F260 -> -0.025751073
... A296: BRISBANE | B296: 305031128 | C296: Newstead - Bowen Hills | D296: 30503112835 | E296: 3112835 | F296: 236 | G296: 236 | H296: =(G296-F296)/F296 -> 0
A297: BRISBANE | B297: 305031128 | C297: Newstead - Bowen Hills | D297: 30503112836 | E297: 3112836 | F297: 0 | G297: 0 | H297: 0
A298: BRISBANE | B298: 305031128 | C298: Newstead - Bowen Hills | D298: 30503112837 | E298: 3112837 | F298: 138 | G298: 147 | H298: =(G298-F298)/F298 -> 0.065217391
A299: BRISBANE | B299: 305031128 | C299: Newstead - Bowen Hills | D299: 30503112838 | E299: 3112838 | F299: 237 | G299: 272 | H299: =(G299-F299)/F299 -> 0.14767932
A300: BRISBANE | B300: 305031128 | C300: Newstead - Bowen Hills | D300: 30503112839 | E300: 3112839 | F300: 331 | G300: 348 | H300: =(G300-F300)/F300 -> 0.051359517
A301: BRISBANE | B301: 305031128 | C301: Newstead - Bowen Hills | D301: 30503112840 | E301: 3112840 | F301: 255 | G301: 271 | H301: =(G301-F301)/F301 -> 0.062745098
A302: BRISBANE | B302: 305031128 | C302: Newstead - Bowen Hills | D302: 30503112841 | E302: 3112841 | F302: 337 | G302: 358 | H302: =(G302-F302)/F302 -> 0.06231454
A303: BRISBANE | B303: 305031128 | C303: Newstead - Bowen Hills | D303: 30503112842 | E303: 3112842 | F303: 196 | G303: 196 | H303: =(G303-F303)/F303 -> 0
...

Sheet Dickson
A1: Electorate | B1: Statistical Area Level 2 (SA2) Code (2021 SA2s) | C1: Statistical Area Level 2 (SA2) Name (2021 SA2s) | D1: Statistical Area Level 1 (SA1) Code (11-digit) (2021 SA1s) | E1: Statistical Area Level 1 (SA1) Code (7-digit) (2021 SA1s) | F1: Actual enrolments 28/07/2026 | G1: Projected enrolment 27/08/2028 | H1: Growth (%)
A2: DICKSON | B2: 302011023 | C2: Bridgeman Downs | D2: 30201102304 | E2: 3102304 | F2: 384 | G2: 379 | H2: =(G2-F2)/F2 -> -0.013020833
A3: DICKSON | B3: 302011023 | C3: Bridgeman Downs | D3: 30201102305 | E3: 3102305 | F3: 264 | G3: 273 | H3: =(G3-F3)/F3 -> 0.034090909 | J3: BD and McD | K3: =SUM(G2:G17) -> 4718
A4: DICKSON | B4: 302011023 | C4: Bridgeman Downs | D4: 30201102306 | E4: 3102306 | F4: 189 | G4: 208 | H4: =(G4-F4)/F4 -> 0.1005291
A5: DICKSON | B5: 302011023 | C5: Bridgeman Downs | D5: 30201102307 | E5: 3102307 | F5: 296 | G5: 316 | H5: =(G5-F5)/F5 -> 0.067567568
A6: DICKSON | B6: 302011023 | C6: Bridgeman Downs | D6: 30201102308 | E6: 3102308 | F6: 372 | G6: 367 | H6: =(G6-F6)/F6 -> -0.01344086
A7: DICKSON | B7: 302011023 | C7: Bridgeman Downs | D7: 30201102310 | E7: 3102310 | F7: 226 | G7: 236 | H7: =(G7-F7)/F7 -> 0.044247788
A8: DICKSON | B8: 302011023 | C8: Bridgeman Downs | D8: 30201102311 | E8: 3102311 | F8: 316 | G8: 343 | H8: =(G8-F8)/F8 -> 0.085443038
A9: DICKSON | B9: 302011023 | C9: Bridgeman Downs | D9: 30201102312 | E9: 3102312 | F9: 329 | G9: 354 | H9: =(G9-F9)/F9 -> 0.075987842
A10: DICKSON | B10: 302011023 | C10: Bridgeman Downs | D10: 30201102314 | E10: 3102314 | F10: 0 | G10: 0 | H10: 0
A11: DICKSON | B11: 302011023 | C11: Bridgeman Downs | D11: 30201102321 | E11: 3102321 | F11: 444 | G11: 474 | H11: =(G11-F11)/F11 -> 0.067567568
A12: DICKSON | B12: 302011023 | C12: Bridgeman Downs | D12: 30201102322 | E12: 3102322 | F12: 508 | G12: 515 | H12: =(G12-F12)/F12 -> 0.013779528
A13: DICKSON | B13: 302011023 | C13: Bridgeman Downs | D13: 30201102327 | E13: 3102327 | F13: 154 | G13: 166 | H13: =(G13-F13)/F13 -> 0.077922078
A14: DICKSON | B14: 302011026 | C14: McDowall | D14: 30201102602 | E14: 3102602 | F14: 328 | G14: 339 | H14: =(G14-F14)/F14 -> 0.033536585
A15: DICKSON | B15: 302011026 | C15: McDowall | D15: 30201102603 | E15: 3102603 | F15: 192 | G15: 207 | H15: =(G15-F15)/F15 -> 0.078125
A16: DICKSON | B16: 302011026 | C16: McDowall | D16: 30201102604 | E16: 3102604 | F16: 278 | G16: 277 | H16: =(G16-F16)/F16 -> -0.0035971223
A17: DICKSON | B17: 302011026 | C17: McDowall | D17: 30201102618 | E17: 3102618 | F17: 257 | G17: 264 | H17: =(G17-F17)/F17 -> 0.027237354
A18: DICKSON | B18: 314011382 | C18: Albany Creek | D18: 31401138201 | E18: 3138201 | F18: 454 | G18: 471 | H18: =(G18-F18)/F18 -> 0.037444934
A19: DICKSON | B19: 314011382 | C19: Albany Creek | D19: 31401138202 | E19: 3138202 | F19: 218 | G19: 221 | H19: =(G19-F19)/F19 -> 0.013761468
A20: DICKSON | B20: 314011382 | C20: Albany Creek | D20: 31401138203 | E20: 3138203 | F20: 279 | G20: 298 | H20: =(G20-F20)/F20 -> 0.068100358
A21: DICKSON | B21: 314011382 | C21: Albany Creek | D21: 31401138204 | E21: 3138204 | F21: 198 | G21: 200 | H21: =(G21-F21)/F21 -> 0.01010101
A22: DICKSON | B22: 314011382 | C22: Albany Creek | D22: 31401138205 | E22: 3138205 | F22: 388 | G22: 396 | H22: =(G22-F22)/F22 -> 0.020618557
... A39: DICKSON | B39: 314011382 | C39: Albany Creek | D39: 31401138223 | E39: 3138223 | F39: 218 | G39: 221 | H39: =(G39-F39)/F39 -> 0.013761468
A40: DICKSON | B40: 314011382 | C40: Albany Creek | D40: 31401138224 | E40: 3138224 | F40: 0 | G40: 0 | H40: 0
A41: DICKSON | B41: 314011382 | C41: Albany Creek | D41: 31401138225 | E41: 3138225 | F41: 506 | G41: 518 | H41: =(G41-F41)/F41 -> 0.023715415
A42: DICKSON | B42: 314011382 | C42: Albany Creek | D42: 31401138226 | E42: 3138226 | F42: 204 | G42: 207 | H42: =(G42-F42)/F42 -> 0.014705882
A43: DICKSON | B43: 314011382 | C43: Albany Creek | D43: 31401138227 | E43: 3138227 | F43: 257 | G43: 255 | H43: =(G43-F43)/F43 -> -0.0077821012
A44: DICKSON | B44: 314011382 | C44: Albany Creek | D44: 31401138228 | E44: 3138228 | F44: 284 | G44: 274 | H44: =(G44-F44)/F44 -> -0.035211268
A45: DICKSON | B45: 314011382 | C45: Albany Creek | D45: 31401138229 | E45: 3138229 | F45: 290 | G45: 294 | H45: =(G45-F45)/F45 -> 0.013793103
A46: DICKSON | B46: 314011382 | C46: Albany Creek | D46: 31401138230 | E46: 3138230 | F46: 250 | G46: 257 | H46: =(G46-F46)/F46 -> 0.028
A47: DICKSON | B47: 314011382 | C47: Albany Creek | D47: 31401138231 | E47: 3138231 | F47: 292 | G47: 296 | H47: =(G47-F47)/F47 -> 0.01369863
A48: DICKSON | B48: 314011382 | C48: Albany Creek | D48: 31401138232 | E48: 3138232 | F48: 213 | G48: 225 | H48: =(G48-F48)/F48 -> 0.056338028
A49: DICKSON | B49: 314011382 | C49: Albany Creek | D49: 31401138233 | E49: 3138233 | F49: 368 | G49: 369 | H49: =(G49-F49)/F49 -> 0.0027173913
A50: DICKSON | B50: 314011382 | C50: Albany Creek | D50: 31401138234 | E50: 3138234 | F50: 418 | G50: 421 | H50: =(G50-F50)/F50 -> 0.0071770335
A51: DICKSON | B51: 314011382 | C51: Albany Creek | D51: 31401138235 | E51: 3138235 | F51: 317 | G51: 329 | H51: =(G51-F51)/F51 -> 0.03785489
A52: DICKSON | B52: 314011382 | C52: Albany Creek | D52: 31401138236 | E52: 3138236 | F52: 236 | G52: 234 | H52: =(G52-F52)/F52 -> -0.0084745763
... A164: DICKSON | B164: 314011386 | C164: The Hills District | D164: 31401138626 | E164: 3138626 | F164: 150 | G164: 157 | H164: =(G164-F164)/F164 -> 0.046666667
A165: DICKSON | B165: 314011386 | C165: The Hills District | D165: 31401138627 | E165: 3138627 | F165: 0 | G165: 0 | H165: 0
A166: DICKSON | B166: 314011386 | C166: The Hills District | D166: 31401138628 | E166: 3138628 | F166: 237 | G166: 246 | H166: =(G166-F166)/F166 -> 0.037974684
A167: DICKSON | B167: 314011386 | C167: The Hills District | D167: 31401138629 | E167: 3138629 | F167: 256 | G167: 255 | H167: =(G167-F167)/F167 -> -0.00390625
A168: DICKSON | B168: 314011386 | C168: The Hills District | D168: 31401138630 | E168: 3138630 | F168: 206 | G168: 202 | H168: =(G168-F168)/F168 -> -0.019417476
A169: DICKSON | B169: 314011386 | C169: The Hills District | D169: 31401138631 | E169: 3138631 | F169: 246 | G169: 245 | H169: =(G169-F169)/F169 -> -0.0040650407
A170: DICKSON | B170: 314011386 | C170: The Hills District | D170: 31401138632 | E170: 3138632 | F170: 540 | G170: 556 | H170: =(G170-F170)/F170 -> 0.02962963
A171: DICKSON | B171: 314011386 | C171: The Hills District | D171: 31401138633 | E171: 3138633 | F171: 455 | G171: 447 | H171: =(G171-F171)/F171 -> -0.017582418
A172: DICKSON | B172: 314011386 | C172: The Hills District | D172: 31401138634 | E172: 3138634 | F172: 976 | G172: 1019 | H172: =(G172-F172)/F172 -> 0.044057377
A173: DICKSON | B173: 314011386 | C173: The Hills District | D173: 31401138635 | E173: 3138635 | F173: 254 | G173: 258 | H173: =(G173-F173)/F173 -> 0.015748031
A174: DICKSON | B174: 314011386 | C174: The Hills District | D174: 31401138636 | E174: 3138636 | F174: 385 | G174: 381 | H174: =(G174-F174)/F174 -> -0.01038961
A175: DICKSON | B175: 314011386 | C175: The Hills District | D175: 31401138637 | E175: 3138637 | F175: 190 | G175: 199 | H175: =(G175-F175)/F175 -> 0.047368421
A176: DICKSON | B176: 314011386 | C176: The Hills District | D176: 31401138638 | E176: 3138638 | F176: 278 | G176: 287 | H176: =(G176-F176)/F176 -> 0.032374101
A177: DICKSON | B177: 314011386 | C177: The Hills District | D177: 31401138639 | E177: 3138639 | F177: 312 | G177: 309 | H177: =(G177-F177)/F177 -> -0.0096153846
... A200: DICKSON | B200: 314011386 | C200: The Hills District | D200: 31401138662 | E200: 3138662 | F200: 183 | G200: 190 | H200: =(G200-F200)/F200 -> 0.038251366
A201: DICKSON | B201: 314011386 | C201: The Hills District | D201: 31401138663 | E201: 3138663 | F201: 0 | G201: 0 | H201: 0
A202: DICKSON | B202: 314011386 | C202: The Hills District | D202: 31401138664 | E202: 3138664 | F202: 377 | G202: 370 | H202: =(G202-F202)/F202 -> -0.018567639
A203: DICKSON | B203: 314011387 | C203: Samford Valley | D203: 31401138701 | E203: 3138701 | F203: 380 | G203: 383 | H203: =(G203-F203)/F203 -> 0.0078947368
A204: DICKSON | B204: 314011387 | C204: Samford Valley | D204: 31401138702 | E204: 3138702 | F204: 339 | G204: 347 | H204: =(G204-F204)/F204 -> 0.02359882
A205: DICKSON | B205: 314011387 | C205: Samford Valley | D205: 31401138703 | E205: 3138703 | F205: 262 | G205: 281 | H205: =(G205-F205)/F205 -> 0.072519084
A206: DICKSON | B206: 314011387 | C206: Samford Valley | D206: 31401138704 | E206: 3138704 | F206: 315 | G206: 322 | H206: =(G206-F206)/F206 -> 0.022222222
A207: DICKSON | B207: 314011387 | C207: Samford Valley | D207: 31401138705 | E207: 3138705 | F207: 247 | G207: 250 | H207: =(G207-F207)/F207 -> 0.012145749
A208: DICKSON | B208: 314011387 | C208: Samford Valley | D208: 31401138706 | E208: 3138706 | F208: 425 | G208: 414 | H208: =(G208-F208)/F208 -> -0.025882353
A209: DICKSON | B209: 314011387 | C209: Samford Valley | D209: 31401138707 | E209: 3138707 | F209: 213 | G209: 222 | H209: =(G209-F209)/F209 -> 0.042253521
A210: DICKSON | B210: 314011387 | C210: Samford Valley | D210: 31401138708 | E210: 3138708 | F210: 362 | G210: 368 | H210: =(G210-F210)/F210 -> 0.016574586
A211: DICKSON | B211: 314011387 | C211: Samford Valley | D211: 31401138709 | E211: 3138709 | F211: 198 | G211: 208 | H211: =(G211-F211)/F211 -> 0.050505051
A212: DICKSON | B212: 314011387 | C212: Samford Valley | D212: 31401138710 | E212: 3138710 | F212: 331 | G212: 351 | H212: =(G212-F212)/F212 -> 0.060422961
A213: DICKSON | B213: 314011387 | C213: Samford Valley | D213: 31401138711 | E213: 3138711 | F213: 249 | G213: 256 | H213: =(G213-F213)/F213 -> 0.02811245
... A313: DICKSON | B313: 314031393 | C313: Petrie | D313: 31403139320 | E313: 3139320 | F313: 414 | G313: 397 | H313: =(G313-F313)/F313 -> -0.041062802
A314: DICKSON | B314: 314031393 | C314: Petrie | D314: 31403139321 | E314: 3139321 | F314: 0 | G314: 0 | H314: 0
A315: DICKSON | B315: 314031393 | C315: Petrie | D315: 31403139322 | E315: 3139322 | F315: 301 | G315: 298 | H315: =(G315-F315)/F315 -> -0.0099667774
A316: DICKSON | B316: 314031393 | C316: Petrie | D316: 31403139323 | E316: 3139323 | F316: 245 | G316: 242 | H316: =(G316-F316)/F316 -> -0.012244898
A317: DICKSON | B317: 314031393 | C317: Petrie | D317: 31403139324 | E317: 3139324 | F317: 288 | G317: 283 | H317: =(G317-F317)/F317 -> -0.017361111
A318: DICKSON | B318: 314031393 | C318: Petrie | D318: 31403139325 | E318: 3139325 | F318: 236 | G318: 231 | H318: =(G318-F318)/F318 -> -0.021186441
A319: DICKSON | B319: 314031394 | C319: Strathpine - Brendale | D319: 31403139401 | E319: 3139401 | F319: 189 | G319: 199 | H319: =(G319-F319)/F319 -> 0.052910053
A320: DICKSON | B320: 314031394 | C320: Strathpine - Brendale | D320: 31403139402 | E320: 3139402 | F320: 224 | G320: 237 | H320: =(G320-F320)/F320 -> 0.058035714
A321: DICKSON | B321: 314031394 | C321: Strathpine - Brendale | D321: 31403139403 | E321: 3139403 | F321: 511 | G321: 521 | H321: =(G321-F321)/F321 -> 0.019569472
A322: DICKSON | B322: 314031394 | C322: Strathpine - Brendale | D322: 31403139404 | E322: 3139404 | F322: 476 | G322: 497 | H322: =(G322-F322)/F322 -> 0.044117647
A323: DICKSON | B323: 314031394 | C323: Strathpine - Brendale | D323: 31403139405 | E323: 3139405 | F323: 9 | G323: 10 | H323: =(G323-F323)/F323 -> 0.11111111
A324: DICKSON | B324: 314031394 | C324: Strathpine - Brendale | D324: 31403139406 | E324: 3139406 | F324: 177 | G324: 178 | H324: =(G324-F324)/F324 -> 0.0056497175
A325: DICKSON | B325: 314031394 | C325: Strathpine - Brendale | D325: 31403139407 | E325: 3139407 | F325: 197 | G325: 206 | H325: =(G325-F325)/F325 -> 0.045685279
A326: DICKSON | B326: 314031394 | C326: Strathpine - Brendale | D326: 31403139408 | E326: 3139408 | F326: 449 | G326: 472 | H326: =(G326-F326)/F326 -> 0.051224944
... A382: DICKSON | B382: 314021577 | C382: Kallangur | D382: 31402157752 | E382: 3157752 | F382: 467 | G382: 502 | H382: =(G382-F382)/F382 -> 0.074946467
A383: TOTAL | F383: =SUM(F2:F382) -> 121147 | G383: =SUM(G2:G382) -> 124841 | H383: =(G383-F383)/F383 -> 0.030491882
G385: 132526 | J385: to Lilley
F386: difference | G386: =G383-G385 -> -7685 | J386: BD and McD | K386: =SUM(G2:G17) -> 4718
F387: minus Taigum, BD,Car and Asp | G387: =G383-K386 -> 120123
F388: plus new | G388: =G387+K388+K390 -> 133558
F389: shortage/surplus | G389: =G388-G385 -> 1032
F390: quota | G390: =G389/G385 -> 0.0077871512 | J390: From Longman | K390: 13435
J391: Dakabin
J392: Kallangur
J393: Upper Cab

Sheet Longman
A1: Electorate | B1: Statistical Area Level 2 (SA2) Code (2021 SA2s) | C1: Statistical Area Level 2 (SA2) Name (2021 SA2s) | D1: Statistical Area Level 1 (SA1) Code (11-digit) (2021 SA1s) | E1: Statistical Area Level 1 (SA1) Code (7-digit) (2021 SA1s) | F1: Actual enrolments 28/07/2026 | G1: Projected enrolment 27/08/2028 | H1: Growth (%)
A2: LONGMAN | B2: 313011362 | C2: Beachmere - Sandstone Point | D2: 31301136201 | E2: 3136201 | F2: 423 | G2: 440 | H2: =(G2-F2)/F2 -> 0.040189125
A3: LONGMAN | B3: 313011362 | C3: Beachmere - Sandstone Point | D3: 31301136202 | E3: 3136202 | F3: 574 | G3: 622 | H3: =(G3-F3)/F3 -> 0.083623693
A4: LONGMAN | B4: 313011362 | C4: Beachmere - Sandstone Point | D4: 31301136204 | E4: 3136204 | F4: 0 | G4: 0 | H4: 0
A5: LONGMAN | B5: 313011362 | C5: Beachmere - Sandstone Point | D5: 31301136205 | E5: 3136205 | F5: 669 | G5: 677 | H5: =(G5-F5)/F5 -> 0.011958146
A6: LONGMAN | B6: 313011362 | C6: Beachmere - Sandstone Point | D6: 31301136207 | E6: 3136207 | F6: 213 | G6: 217 | H6: =(G6-F6)/F6 -> 0.018779343
A7: LONGMAN | B7: 313011362 | C7: Beachmere - Sandstone Point | D7: 31301136208 | E7: 3136208 | F7: 493 | G7: 510 | H7: =(G7-F7)/F7 -> 0.034482759
A8: LONGMAN | B8: 313011362 | C8: Beachmere - Sandstone Point | D8: 31301136209 | E8: 3136209 | F8: 421 | G8: 437 | H8: =(G8-F8)/F8 -> 0.038004751
A9: LONGMAN | B9: 313011362 | C9: Beachmere - Sandstone Point | D9: 31301136210 | E9: 3136210 | F9: 330 | G9: 331 | H9: =(G9-F9)/F9 -> 0.003030303
A10: LONGMAN | B10: 313011362 | C10: Beachmere - Sandstone Point | D10: 31301136211 | E10: 3136211 | F10: 293 | G10: 306 | H10: =(G10-F10)/F10 -> 0.044368601
A11: LONGMAN | B11: 313011362 | C11: Beachmere - Sandstone Point | D11: 31301136212 | E11: 3136212 | F11: 241 | G11: 261 | H11: =(G11-F11)/F11 -> 0.082987552
A12: LONGMAN | B12: 313011362 | C12: Beachmere - Sandstone Point | D12: 31301136213 | E12: 3136213 | F12: 300 | G12: 309 | H12: =(G12-F12)/F12 -> 0.03
A13: LONGMAN | B13: 313011362 | C13: Beachmere - Sandstone Point | D13: 31301136214 | E13: 3136214 | F13: 635 | G13: 653 | H13: =(G13-F13)/F13 -> 0.028346457
A14: LONGMAN | B14: 313011362 | C14: Beachmere - Sandstone Point | D14: 31301136215 | E14: 3136215 | F14: 358 | G14: 368 | H14: =(G14-F14)/F14 -> 0.027932961
A15: LONGMAN | B15: 313011362 | C15: Beachmere - Sandstone Point | D15: 31301136216 | E15: 3136216 | F15: 339 | G15: 347 | H15: =(G15-F15)/F15 -> 0.02359882
A16: LONGMAN | B16: 313011362 | C16: Beachmere - Sandstone Point | D16: 31301136217 | E16: 3136217 | F16: 471 | G16: 493 | H16: =(G16-F16)/F16 -> 0.04670913
... A53: LONGMAN | B53: 313011363 | C53: Bribie Island | D53: 31301136318 | E53: 3136318 | F53: 365 | G53: 405 | H53: =(G53-F53)/F53 -> 0.10958904
A54: LONGMAN | B54: 313011363 | C54: Bribie Island | D54: 31301136321 | E54: 3136321 | F54: 0 | G54: 0 | H54: 0
A55: LONGMAN | B55: 313011363 | C55: Bribie Island | D55: 31301136323 | E55: 3136323 | F55: 469 | G55: 473 | H55: =(G55-F55)/F55 -> 0.0085287846
A56: LONGMAN | B56: 313011363 | C56: Bribie Island | D56: 31301136325 | E56: 3136325 | F56: 246 | G56: 259 | H56: =(G56-F56)/F56 -> 0.052845528
A57: LONGMAN | B57: 313011363 | C57: Bribie Island | D57: 31301136326 | E57: 3136326 | F57: 363 | G57: 381 | H57: =(G57-F57)/F57 -> 0.049586777
A58: LONGMAN | B58: 313011363 | C58: Bribie Island | D58: 31301136327 | E58: 3136327 | F58: 185 | G58: 194 | H58: =(G58-F58)/F58 -> 0.048648649
A59: LONGMAN | B59: 313011363 | C59: Bribie Island | D59: 31301136328 | E59: 3136328 | F59: 223 | G59: 246 | H59: =(G59-F59)/F59 -> 0.10313901
A60: LONGMAN | B60: 313011363 | C60: Bribie Island | D60: 31301136329 | E60: 3136329 | F60: 505 | G60: 512 | H60: =(G60-F60)/F60 -> 0.013861386
A61: LONGMAN | B61: 313011363 | C61: Bribie Island | D61: 31301136330 | E61: 3136330 | F61: 0 | G61: 0 | H61: 0
A62: LONGMAN | B62: 313011363 | C62: Bribie Island | D62: 31301136332 | E62: 3136332 | F62: 425 | G62: 451 | H62: =(G62-F62)/F62 -> 0.061176471
A63: LONGMAN | B63: 313011363 | C63: Bribie Island | D63: 31301136333 | E63: 3136333 | F63: 345 | G63: 363 | H63: =(G63-F63)/F63 -> 0.052173913
A64: LONGMAN | B64: 313011363 | C64: Bribie Island | D64: 31301136334 | E64: 3136334 | F64: 250 | G64: 269 | H64: =(G64-F64)/F64 -> 0.076
A65: LONGMAN | B65: 313011363 | C65: Bribie Island | D65: 31301136335 | E65: 3136335 | F65: 411 | G65: 426 | H65: =(G65-F65)/F65 -> 0.03649635
A66: LONGMAN | B66: 313011363 | C66: Bribie Island | D66: 31301136336 | E66: 3136336 | F66: 594 | G66: 603 | H66: =(G66-F66)/F66 -> 0.015151515
A67: LONGMAN | B67: 313011363 | C67: Bribie Island | D67: 31301136337 | E67: 3136337 | F67: 201 | G67: 212 | H67: =(G67-F67)/F67 -> 0.054726368
A68: LONGMAN | B68: 313011363 | C68: Bribie Island | D68: 31301136338 | E68: 3136338 | F68: 386 | G68: 415 | H68: =(G68-F68)/F68 -> 0.075129534
A69: LONGMAN | B69: 313011363 | C69: Bribie Island | D69: 31301136339 | E69: 3136339 | F69: 242 | G69: 252 | H69: =(G69-F69)/F69 -> 0.041322314
A70: LONGMAN | B70: 313011363 | C70: Bribie Island | D70: 31301136340 | E70: 3136340 | F70: 398 | G70: 415 | H70: =(G70-F70)/F70 -> 0.042713568
A71: LONGMAN | B71: 313011363 | C71: Bribie Island | D71: 31301136341 | E71: 3136341 | F71: 385 | G71: 393 | H71: =(G71-F71)/F71 -> 0.020779221
A72: LONGMAN | B72: 313011363 | C72: Bribie Island | D72: 31301136342 | E72: 3136342 | F72: 271 | G72: 287 | H72: =(G72-F72)/F72 -> 0.05904059
A73: LONGMAN | B73: 313011363 | C73: Bribie Island | D73: 31301136344 | E73: 3136344 | F73: 140 | G73: 153 | H73: =(G73-F73)/F73 -> 0.092857143
... A85: LONGMAN | B85: 313011363 | C85: Bribie Island | D85: 31301136357 | E85: 3136357 | F85: 153 | G85: 163 | H85: =(G85-F85)/F85 -> 0.065359477
A86: LONGMAN | B86: 313011363 | C86: Bribie Island | D86: 31301136358 | E86: 3136358 | F86: 0 | G86: 0 | H86: 0
A87: LONGMAN | B87: 313011363 | C87: Bribie Island | D87: 31301136359 | E87: 3136359 | F87: 665 | G87: 694 | H87: =(G87-F87)/F87 -> 0.043609023
A88: LONGMAN | B88: 313021364 | C88: Burpengary - East | D88: 31302136402 | E88: 3136402 | F88: 309 | G88: 377 | H88: =(G88-F88)/F88 -> 0.22006472
A89: LONGMAN | B89: 313021364 | C89: Burpengary - East | D89: 31302136403 | E89: 3136403 | F89: 316 | G89: 375 | H89: =(G89-F89)/F89 -> 0.18670886
A90: LONGMAN | B90: 313021364 | C90: Burpengary - East | D90: 31302136404 | E90: 3136404 | F90: 288 | G90: 347 | H90: =(G90-F90)/F90 -> 0.20486111
A91: LONGMAN | B91: 313021364 | C91: Burpengary - East | D91: 31302136405 | E91: 3136405 | F91: 370 | G91: 381 | H91: =(G91-F91)/F91 -> 0.02972973
A92: LONGMAN | B92: 313021364 | C92: Burpengary - East | D92: 31302136406 | E92: 3136406 | F92: 614 | G92: 737 | H92: =(G92-F92)/F92 -> 0.20032573
A93: LONGMAN | B93: 313021364 | C93: Burpengary - East | D93: 31302136407 | E93: 3136407 | F93: 278 | G93: 323 | H93: =(G93-F93)/F93 -> 0.1618705
A94: LONGMAN | B94: 313021364 | C94: Burpengary - East | D94: 31302136408 | E94: 3136408 | F94: 360 | G94: 423 | H94: =(G94-F94)/F94 -> 0.175
A95: LONGMAN | B95: 313021364 | C95: Burpengary - East | D95: 31302136409 | E95: 3136409 | F95: 318 | G95: 378 | H95: =(G95-F95)/F95 -> 0.18867925
A96: LONGMAN | B96: 313021364 | C96: Burpengary - East | D96: 31302136410 | E96: 3136410 | F96: 165 | G96: 193 | H96: =(G96-F96)/F96 -> 0.16969697
A97: LONGMAN | B97: 313021364 | C97: Burpengary - East | D97: 31302136411 | E97: 3136411 | F97: 81 | G97: 94 | H97: =(G97-F97)/F97 -> 0.16049383
A98: LONGMAN | B98: 313021364 | C98: Burpengary - East | D98: 31302136413 | E98: 3136413 | F98: 3 | G98: 3 | H98: =(G98-F98)/F98 -> 0
... A115: LONGMAN | B115: 313021366 | C115: Caboolture - South | D115: 31302136611 | E115: 3136611 | F115: 343 | G115: 365 | H115: =(G115-F115)/F115 -> 0.064139942
A116: LONGMAN | B116: 313021366 | C116: Caboolture - South | D116: 31302136612 | E116: 3136612 | F116: 0 | G116: 0 | H116: 0
A117: LONGMAN | B117: 313021366 | C117: Caboolture - South | D117: 31302136613 | E117: 3136613 | F117: 382 | G117: 404 | H117: =(G117-F117)/F117 -> 0.057591623
A118: LONGMAN | B118: 313021366 | C118: Caboolture - South | D118: 31302136615 | E118: 3136615 | F118: 485 | G118: 516 | H118: =(G118-F118)/F118 -> 0.063917526
A119: LONGMAN | B119: 313021366 | C119: Caboolture - South | D119: 31302136616 | E119: 3136616 | F119: 418 | G119: 466 | H119: =(G119-F119)/F119 -> 0.11483254
A120: LONGMAN | B120: 313021366 | C120: Caboolture - South | D120: 31302136617 | E120: 3136617 | F120: 492 | G120: 532 | H120: =(G120-F120)/F120 -> 0.081300813
A121: LONGMAN | B121: 313021366 | C121: Caboolture - South | D121: 31302136618 | E121: 3136618 | F121: 266 | G121: 302 | H121: =(G121-F121)/F121 -> 0.13533835
A122: LONGMAN | B122: 313021366 | C122: Caboolture - South | D122: 31302136619 | E122: 3136619 | F122: 262 | G122: 292 | H122: =(G122-F122)/F122 -> 0.11450382
A123: LONGMAN | B123: 313021366 | C123: Caboolture - South | D123: 31302136620 | E123: 3136620 | F123: 331 | G123: 330 | H123: =(G123-F123)/F123 -> -0.003021148
A124: LONGMAN | B124: 313021366 | C124: Caboolture - South | D124: 31302136621 | E124: 3136621 | F124: 465 | G124: 493 | H124: =(G124-F124)/F124 -> 0.060215054
A125: LONGMAN | B125: 313021366 | C125: Caboolture - South | D125: 31302136622 | E125: 3136622 | F125: 872 | G125: 879 | H125: =(G125-F125)/F125 -> 0.0080275229
A126: LONGMAN | B126: 313021366 | C126: Caboolture - South | D126: 31302136624 | E126: 3136624 | F126: 365 | G126: 388 | H126: =(G126-F126)/F126 -> 0.063013699
A127: LONGMAN | B127: 313021366 | C127: Caboolture - South | D127: 31302136625 | E127: 3136625 | F127: 272 | G127: 287 | H127: =(G127-F127)/F127 -> 0.055147059
A128: LONGMAN | B128: 313021366 | C128: Caboolture - South | D128: 31302136626 | E128: 3136626 | F128: 283 | G128: 296 | H128: =(G128-F128)/F128 -> 0.045936396
... A315: LONGMAN | B315: 313041375 | C315: Narangba | D315: 31304137554 | E315: 3137554 | F315: 252 | G315: 253 | H315: =(G315-F315)/F315 -> 0.003968254
A316: LONGMAN | B316: 313041376 | C316: Upper Caboolture | D316: 31304137601 | E316: 3137601 | F316: 0 | G316: 0 | H316: 0
A317: LONGMAN | B317: 313041376 | C317: Upper Caboolture | D317: 31304137602 | E317: 3137602 | F317: 472 | G317: 488 | H317: =(G317-F317)/F317 -> 0.033898305
A318: LONGMAN | B318: 313041376 | C318: Upper Caboolture | D318: 31304137603 | E318: 3137603 | F318: 526 | G318: 550 | H318: =(G318-F318)/F318 -> 0.045627376
A319: LONGMAN | B319: 313041376 | C319: Upper Caboolture | D319: 31304137604 | E319: 3137604 | F319: 327 | G319: 344 | H319: =(G319-F319)/F319 -> 0.051987768
A320: LONGMAN | B320: 313041376 | C320: Upper Caboolture | D320: 31304137605 | E320: 3137605 | F320: 235 | G320: 252 | H320: =(G320-F320)/F320 -> 0.072340426
A321: LONGMAN | B321: 313041376 | C321: Upper Caboolture | D321: 31304137606 | E321: 3137606 | F321: 382 | G321: 385 | H321: =(G321-F321)/F321 -> 0.0078534031
A322: LONGMAN | B322: 313041376 | C322: Upper Caboolture | D322: 31304137607 | E322: 3137607 | F322: 259 | G322: 281 | H322: =(G322-F322)/F322 -> 0.084942085
A323: LONGMAN | B323: 313041376 | C323: Upper Caboolture | D323: 31304137608 | E323: 3137608 | F323: 304 | G323: 330 | H323: =(G323-F323)/F323 -> 0.085526316
A324: LONGMAN | B324: 313041376 | C324: Upper Caboolture | D324: 31304137609 | E324: 3137609 | F324: 404 | G324: 422 | H324: =(G324-F324)/F324 -> 0.044554455
A325: LONGMAN | B325: 314021389 | C325: Murrumba Downs - Griffin | D325: 31402138918 | E325: 3138918 | F325: 0 | G325: 0 | H325: 0
A326: LONGMAN | B326: 316061440 | C326: Caloundra Hinterland | D326: 31606144014 | E326: 3144014 | F326: 0 | G326: 0 | H326: 0
A327: LONGMAN | B327: 309071557 | C327: Upper Coomera - North | D327: 30907155702 | E327: 3155702 | F327: 0 | G327: 0 | H327: 0
A328: LONGMAN | B328: 313021572 | C328: Caboolture - East | D328: 31302157201 | E328: 3157201 | F328: 286 | G328: 311 | H328: =(G328-F328)/F328 -> 0.087412587
A329: LONGMAN | B329: 313021572 | C329: Caboolture - East | D329: 31302157202 | E329: 3157202 | F329: 320 | G329: 332 | H329: =(G329-F329)/F329 -> 0.0375
A330: LONGMAN | B330: 313021572 | C330: Caboolture - East | D330: 31302157203 | E330: 3157203 | F330: 431 | G330: 432 | H330: =(G330-F330)/F330 -> 0.0023201856
A331: LONGMAN | B331: 313021572 | C331: Caboolture - East | D331: 31302157204 | E331: 3157204 | F331: 480 | G331: 508 | H331: =(G331-F331)/F331 -> 0.058333333
A332: LONGMAN | B332: 313021572 | C332: Caboolture - East | D332: 31302157205 | E332: 3157205 | F332: 389 | G332: 390 | H332: =(G332-F332)/F332 -> 0.0025706941
A333: LONGMAN | B333: 313021572 | C333: Caboolture - East | D333: 31302157206 | E333: 3157206 | F333: 349 | G333: 380 | H333: =(G333-F333)/F333 -> 0.088825215
A334: LONGMAN | B334: 313021572 | C334: Caboolture - East | D334: 31302157207 | E334: 3157207 | F334: 426 | G334: 427 | H334: =(G334-F334)/F334 -> 0.0023474178
A335: LONGMAN | B335: 313021572 | C335: Caboolture - East | D335: 31302157208 | E335: 3157208 | F335: 120 | G335: 133 | H335: =(G335-F335)/F335 -> 0.10833333
A336: LONGMAN | B336: 313021572 | C336: Caboolture - East | D336: 31302157209 | E336: 3157209 | F336: 268 | G336: 269 | H336: =(G336-F336)/F336 -> 0.0037313433
A337: LONGMAN | B337: 313021572 | C337: Caboolture - East | D337: 31302157210 | E337: 3157210 | F337: 464 | G337: 465 | H337: =(G337-F337)/F337 -> 0.0021551724
A338: LONGMAN | B338: 313021572 | C338: Caboolture - East | D338: 31302157211 | E338: 3157211 | F338: 299 | G338: 317 | H338: =(G338-F338)/F338 -> 0.060200669
A339: LONGMAN | B339: 313021572 | C339: Caboolture - East | D339: 31302157212 | E339: 3157212 | F339: 216 | G339: 225 | H339: =(G339-F339)/F339 -> 0.041666667
... A424: LONGMAN | B424: 314021577 | C424: Kallangur | D424: 31402157746 | E424: 3157746 | F424: 399 | G424: 420 | H424: =(G424-F424)/F424 -> 0.052631579
A425: LONGMAN | B425: 314021577 | C425: Kallangur | D425: 31402157748 | E425: 3157748 | F425: 390 | G425: 404 | H425: =(G425-F425)/F425 -> 0.035897436 | J425: To Dickson
A426: LONGMAN | B426: 314021577 | C426: Kallangur | D426: 31402157749 | E426: 3157749 | F426: 0 | G426: 0 | H426: 0 | J426: Dakabin | K426: =SUM(G392:G404) -> 3762
A427: LONGMAN | B427: 314021577 | C427: Kallangur | D427: 31402157751 | E427: 3157751 | F427: 244 | G427: 256 | H427: =(G427-F427)/F427 -> 0.049180328 | J427: Kallangur | K427: =SUM(G405:G428) -> 6621
A428: LONGMAN | B428: 314021577 | C428: Kallangur | D428: 31402157753 | E428: 3157753 | F428: 237 | G428: 254 | H428: =(G428-F428)/F428 -> 0.071729958 | J428: Upper Cab | K428: =SUM(G316:G324) -> 3052
A429: TOTAL | F429: =SUM(F2:F428) -> 148218 | G429: =SUM(G2:G428) -> 156827 | H429: =(G429-F429)/F429 -> 0.058083364 | K429: =SUM(K426:K428) -> 13435
G431: 132526 | K431: To Petrie
F432: difference | G432: =G429-G431 -> 24301 | J432: Burpengary East | K432: =SUM(G88:G105) -> 6836
F433: minus bay | G433: =G429-K429-K432 -> 136556
F434: shortage/surplus | G434: =G433-G431 -> 4030
...

Sheet Lilley
A1: Electorate | B1: Statistical Area Level 2 (SA2) Code (2021 SA2s) | C1: Statistical Area Level 2 (SA2) Name (2021 SA2s) | D1: Statistical Area Level 1 (SA1) Code (11-digit) (2021 SA1s) | E1: Statistical Area Level 1 (SA1) Code (7-digit) (2021 SA1s) | F1: Actual enrolments 28/07/2026 | G1: Projected enrolment 27/08/2028 | H1: Growth (%)
A2: LILLEY | B2: 302011023 | C2: Bridgeman Downs | D2: 30201102301 | E2: 3102301 | F2: 402 | G2: 418 | H2: =(G2-F2)/F2 -> 0.039800995
A3: LILLEY | B3: 302011023 | C3: Bridgeman Downs | D3: 30201102302 | E3: 3102302 | F3: 263 | G3: 282 | H3: =(G3-F3)/F3 -> 0.072243346
A4: LILLEY | B4: 302011023 | C4: Bridgeman Downs | D4: 30201102303 | E4: 3102303 | F4: 245 | G4: 260 | H4: =(G4-F4)/F4 -> 0.06122449
A5: LILLEY | B5: 302011023 | C5: Bridgeman Downs | D5: 30201102311 | E5: 3102311 | F5: 0 | G5: 0 | H5: 0
A6: LILLEY | B6: 302011023 | C6: Bridgeman Downs | D6: 30201102312 | E6: 3102312 | F6: 0 | G6: 0 | H6: 0
A7: LILLEY | B7: 302011023 | C7: Bridgeman Downs | D7: 30201102314 | E7: 3102314 | F7: 189 | G7: 205 | H7: =(G7-F7)/F7 -> 0.084656085
A8: LILLEY | B8: 302011023 | C8: Bridgeman Downs | D8: 30201102321 | E8: 3102321 | F8: 0 | G8: 0 | H8: 0
A9: LILLEY | B9: 302011025 | C9: Everton Park | D9: 30201102501 | E9: 3102501 | F9: 335 | G9: 351 | H9: =(G9-F9)/F9 -> 0.047761194
A10: LILLEY | B10: 302011025 | C10: Everton Park | D10: 30201102502 | E10: 3102502 | F10: 416 | G10: 407 | H10: =(G10-F10)/F10 -> -0.021634615
A11: LILLEY | B11: 302011025 | C11: Everton Park | D11: 30201102503 | E11: 3102503 | F11: 654 | G11: 691 | H11: =(G11-F11)/F11 -> 0.056574924
A12: LILLEY | B12: 302011025 | C12: Everton Park | D12: 30201102504 | E12: 3102504 | F12: 211 | G12: 217 | H12: =(G12-F12)/F12 -> 0.028436019
A13: LILLEY | B13: 302011025 | C13: Everton Park | D13: 30201102505 | E13: 3102505 | F13: 602 | G13: 666 | H13: =(G13-F13)/F13 -> 0.10631229
A14: LILLEY | B14: 302011025 | C14: Everton Park | D14: 30201102506 | E14: 3102506 | F14: 252 | G14: 256 | H14: =(G14-F14)/F14 -> 0.015873016 | L14: =SUM($G9:$G27) -> 8049
A15: LILLEY | B15: 302011025 | C15: Everton Park | D15: 30201102507 | E15: 3102507 | F15: 807 | G15: 807 | H15: =(G15-F15)/F15 -> 0
A16: LILLEY | B16: 302011025 | C16: Everton Park | D16: 30201102508 | E16: 3102508 | F16: 472 | G16: 477 | H16: =(G16-F16)/F16 -> 0.01059322
A17: LILLEY | B17: 302011025 | C17: Everton Park | D17: 30201102509 | E17: 3102509 | F17: 460 | G17: 483 | H17: =(G17-F17)/F17 -> 0.05
A18: LILLEY | B18: 302011025 | C18: Everton Park | D18: 30201102510 | E18: 3102510 | F18: 476 | G18: 466 | H18: =(G18-F18)/F18 -> -0.021008403
A19: LILLEY | B19: 302011025 | C19: Everton Park | D19: 30201102511 | E19: 3102511 | F19: 298 | G19: 297 | H19: =(G19-F19)/F19 -> -0.0033557047
A20: LILLEY | B20: 302011025 | C20: Everton Park | D20: 30201102512 | E20: 3102512 | F20: 389 | G20: 381 | H20: =(G20-F20)/F20 -> -0.020565553
A21: LILLEY | B21: 302011025 | C21: Everton Park | D21: 30201102513 | E21: 3102513 | F21: 245 | G21: 256 | H21: =(G21-F21)/F21 -> 0.044897959
A22: LILLEY | B22: 302011025 | C22: Everton Park | D22: 30201102514 | E22: 3102514 | F22: 328 | G22: 350 | H22: =(G22-F22)/F22 -> 0.067073171
A23: LILLEY | B23: 302011025 | C23: Everton Park | D23: 30201102515 | E23: 3102515 | F23: 328 | G23: 346 | H23: =(G23-F23)/F23 -> 0.054878049
A24: LILLEY | B24: 302011025 | C24: Everton Park | D24: 30201102516 | E24: 3102516 | F24: 221 | G24: 223 | H24: =(G24-F24)/F24 -> 0.0090497738
A25: LILLEY | B25: 302011025 | C25: Everton Park | D25: 30201102517 | E25: 3102517 | F25: 246 | G25: 261 | H25: =(G25-F25)/F25 -> 0.06097561
A26: LILLEY | B26: 302011025 | C26: Everton Park | D26: 30201102518 | E26: 3102518 | F26: 617 | G26: 671 | H26: =(G26-F26)/F26 -> 0.087520259
... A53: LILLEY | B53: 302021027 | C53: Aspley | D53: 30202102718 | E53: 3102718 | F53: 399 | G53: 400 | H53: =(G53-F53)/F53 -> 0.0025062657
A54: LILLEY | B54: 302021027 | C54: Aspley | D54: 30202102720 | E54: 3102720 | F54: 0 | G54: 0 | H54: 0
A55: LILLEY | B55: 302021027 | C55: Aspley | D55: 30202102721 | E55: 3102721 | F55: 192 | G55: 191 | H55: =(G55-F55)/F55 -> -0.0052083333
A56: LILLEY | B56: 302021027 | C56: Aspley | D56: 30202102722 | E56: 3102722 | F56: 262 | G56: 269 | H56: =(G56-F56)/F56 -> 0.026717557
A57: LILLEY | B57: 302021027 | C57: Aspley | D57: 30202102723 | E57: 3102723 | F57: 262 | G57: 272 | H57: =(G57-F57)/F57 -> 0.038167939
A58: LILLEY | B58: 302021027 | C58: Aspley | D58: 30202102724 | E58: 3102724 | F58: 315 | G58: 314 | H58: =(G58-F58)/F58 -> -0.0031746032
A59: LILLEY | B59: 302021027 | C59: Aspley | D59: 30202102725 | E59: 3102725 | F59: 198 | G59: 198 | H59: =(G59-F59)/F59 -> 0
A60: LILLEY | B60: 302021027 | C60: Aspley | D60: 30202102726 | E60: 3102726 | F60: 316 | G60: 312 | H60: =(G60-F60)/F60 -> -0.012658228
A61: LILLEY | B61: 302021027 | C61: Aspley | D61: 30202102727 | E61: 3102727 | F61: 216 | G61: 213 | H61: =(G61-F61)/F61 -> -0.013888889
A62: LILLEY | B62: 302021027 | C62: Aspley | D62: 30202102728 | E62: 3102728 | F62: 248 | G62: 247 | H62: =(G62-F62)/F62 -> -0.0040322581
A63: LILLEY | B63: 302021027 | C63: Aspley | D63: 30202102729 | E63: 3102729 | F63: 316 | G63: 307 | H63: =(G63-F63)/F63 -> -0.028481013
A64: LILLEY | B64: 302021027 | C64: Aspley | D64: 30202102730 | E64: 3102730 | F64: 275 | G64: 280 | H64: =(G64-F64)/F64 -> 0.018181818
A65: LILLEY | B65: 302021027 | C65: Aspley | D65: 30202102731 | E65: 3102731 | F65: 352 | G65: 353 | H65: =(G65-F65)/F65 -> 0.0028409091
A66: LILLEY | B66: 302021027 | C66: Aspley | D66: 30202102732 | E66: 3102732 | F66: 176 | G66: 182 | H66: =(G66-F66)/F66 -> 0.034090909
... A69: LILLEY | B69: 302021027 | C69: Aspley | D69: 30202102738 | E69: 3102738 | F69: 285 | G69: 291 | H69: =(G69-F69)/F69 -> 0.021052632
A70: LILLEY | B70: 302021027 | C70: Aspley | D70: 30202102739 | E70: 3102739 | F70: 0 | G70: 0 | H70: 0
A71: LILLEY | B71: 302021028 | C71: Chermside | D71: 30202102802 | E71: 3102802 | F71: 547 | G71: 569 | H71: =(G71-F71)/F71 -> 0.040219378
A72: LILLEY | B72: 302021028 | C72: Chermside | D72: 30202102803 | E72: 3102803 | F72: 377 | G72: 390 | H72: =(G72-F72)/F72 -> 0.034482759
A73: LILLEY | B73: 302021028 | C73: Chermside | D73: 30202102804 | E73: 3102804 | F73: 190 | G73: 208 | H73: =(G73-F73)/F73 -> 0.094736842
A74: LILLEY | B74: 302021028 | C74: Chermside | D74: 30202102806 | E74: 3102806 | F74: 281 | G74: 308 | H74: =(G74-F74)/F74 -> 0.096085409
A75: LILLEY | B75: 302021028 | C75: Chermside | D75: 30202102807 | E75: 3102807 | F75: 222 | G75: 218 | H75: =(G75-F75)/F75 -> -0.018018018
A76: LILLEY | B76: 302021028 | C76: Chermside | D76: 30202102808 | E76: 3102808 | F76: 279 | G76: 308 | H76: =(G76-F76)/F76 -> 0.10394265
A77: LILLEY | B77: 302021028 | C77: Chermside | D77: 30202102809 | E77: 3102809 | F77: 371 | G77: 398 | H77: =(G77-F77)/F77 -> 0.07277628
A78: LILLEY | B78: 302021028 | C78: Chermside | D78: 30202102810 | E78: 3102810 | F78: 381 | G78: 406 | H78: =(G78-F78)/F78 -> 0.065616798
A79: LILLEY | B79: 302021028 | C79: Chermside | D79: 30202102811 | E79: 3102811 | F79: 376 | G79: 389 | H79: =(G79-F79)/F79 -> 0.034574468
A80: LILLEY | B80: 302021028 | C80: Chermside | D80: 30202102812 | E80: 3102812 | F80: 0 | G80: 0 | H80: 0
A81: LILLEY | B81: 302021028 | C81: Chermside | D81: 30202102814 | E81: 3102814 | F81: 433 | G81: 444 | H81: =(G81-F81)/F81 -> 0.025404157
A82: LILLEY | B82: 302021028 | C82: Chermside | D82: 30202102815 | E82: 3102815 | F82: 263 | G82: 269 | H82: =(G82-F82)/F82 -> 0.022813688
A83: LILLEY | B83: 302021028 | C83: Chermside | D83: 30202102817 | E83: 3102817 | F83: 352 | G83: 355 | H83: =(G83-F83)/F83 -> 0.0085227273
A84: LILLEY | B84: 302021028 | C84: Chermside | D84: 30202102818 | E84: 3102818 | F84: 349 | G84: 379 | H84: =(G84-F84)/F84 -> 0.085959885
A85: LILLEY | B85: 302021028 | C85: Chermside | D85: 30202102819 | E85: 3102819 | F85: 364 | G85: 369 | H85: =(G85-F85)/F85 -> 0.013736264
A86: LILLEY | B86: 302021028 | C86: Chermside | D86: 30202102820 | E86: 3102820 | F86: 409 | G86: 422 | H86: =(G86-F86)/F86 -> 0.031784841
A87: LILLEY | B87: 302021028 | C87: Chermside | D87: 30202102821 | E87: 3102821 | F87: 254 | G87: 267 | H87: =(G87-F87)/F87 -> 0.051181102
A88: LILLEY | B88: 302021028 | C88: Chermside | D88: 30202102822 | E88: 3102822 | F88: 0 | G88: 0 | H88: 0
A89: LILLEY | B89: 302021028 | C89: Chermside | D89: 30202102823 | E89: 3102823 | F89: 359 | G89: 363 | H89: =(G89-F89)/F89 -> 0.011142061
A90: LILLEY | B90: 302021028 | C90: Chermside | D90: 30202102824 | E90: 3102824 | F90: 550 | G90: 571 | H90: =(G90-F90)/F90 -> 0.038181818
A91: LILLEY | B91: 302021028 | C91: Chermside | D91: 30202102825 | E91: 3102825 | F91: 314 | G91: 335 | H91: =(G91-F91)/F91 -> 0.066878981
A92: LILLEY | B92: 302021028 | C92: Chermside | D92: 30202102826 | E92: 3102826 | F92: 131 | G92: 137 | H92: =(G92-F92)/F92 -> 0.045801527
A93: LILLEY | B93: 302021028 | C93: Chermside | D93: 30202102827 | E93: 3102827 | F93: 170 | G93: 178 | H93: =(G93-F93)/F93 -> 0.047058824
A94: LILLEY | B94: 302021028 | C94: Chermside | D94: 30202102828 | E94: 3102828 | F94: 179 | G94: 190 | H94: =(G94-F94)/F94 -> 0.061452514
A95: LILLEY | B95: 302021028 | C95: Chermside | D95: 30202102829 | E95: 3102829 | F95: 145 | G95: 142 | H95: =(G95-F95)/F95 -> -0.020689655
A96: LILLEY | B96: 302021028 | C96: Chermside | D96: 30202102830 | E96: 3102830 | F96: 352 | G96: 369 | H96: =(G96-F96)/F96 -> 0.048295455
A97: LILLEY | B97: 302021028 | C97: Chermside | D97: 30202102831 | E97: 3102831 | F97: 152 | G97: 155 | H97: =(G97-F97)/F97 -> 0.019736842
A98: LILLEY | B98: 302021028 | C98: Chermside | D98: 30202102832 | E98: 3102832 | F98: 291 | G98: 294 | H98: =(G98-F98)/F98 -> 0.010309278
A99: LILLEY | B99: 302021029 | C99: Chermside West | D99: 30202102901 | E99: 3102901 | F99: 199 | G99: 204 | H99: =(G99-F99)/F99 -> 0.025125628
A100: LILLEY | B100: 302021029 | C100: Chermside West | D100: 30202102902 | E100: 3102902 | F100: 349 | G100: 367 | H100: =(G100-F100)/F100 -> 0.051575931
... A111: LILLEY | B111: 302021029 | C111: Chermside West | D111: 30202102913 | E111: 3102913 | F111: 288 | G111: 280 | H111: =(G111-F111)/F111 -> -0.027777778
A112: LILLEY | B112: 302021029 | C112: Chermside West | D112: 30202102914 | E112: 3102914 | F112: 0 | G112: 0 | H112: 0
A113: LILLEY | B113: 302021029 | C113: Chermside West | D113: 30202102915 | E113: 3102915 | F113: 342 | G113: 340 | H113: =(G113-F113)/F113 -> -0.0058479532
A114: LILLEY | B114: 302021029 | C114: Chermside West | D114: 30202102916 | E114: 3102916 | F114: 0 | G114: 0 | H114: 0
A115: LILLEY | B115: 302021029 | C115: Chermside West | D115: 30202102917 | E115: 3102917 | F115: 573 | G115: 622 | H115: =(G115-F115)/F115 -> 0.085514834
A116: LILLEY | B116: 302021030 | C116: Geebung | D116: 30202103001 | E116: 3103001 | F116: 390 | G116: 394 | H116: =(G116-F116)/F116 -> 0.01025641
A117: LILLEY | B117: 302021030 | C117: Geebung | D117: 30202103002 | E117: 3103002 | F117: 432 | G117: 437 | H117: =(G117-F117)/F117 -> 0.011574074
A118: LILLEY | B118: 302021030 | C118: Geebung | D118: 30202103003 | E118: 3103003 | F118: 151 | G118: 152 | H118: =(G118-F118)/F118 -> 0.0066225166
A119: LILLEY | B119: 302021030 | C119: Geebung | D119: 30202103004 | E119: 3103004 | F119: 328 | G119: 317 | H119: =(G119-F119)/F119 -> -0.033536585
A120: LILLEY | B120: 302021030 | C120: Geebung | D120: 30202103005 | E120: 3103005 | F120: 361 | G120: 358 | H120: =(G120-F120)/F120 -> -0.0083102493
A121: LILLEY | B121: 302021030 | C121: Geebung | D121: 30202103006 | E121: 3103006 | F121: 302 | G121: 311 | H121: =(G121-F121)/F121 -> 0.029801325
A122: LILLEY | B122: 302021030 | C122: Geebung | D122: 30202103007 | E122: 3103007 | F122: 8 | G122: 8 | H122: =(G122-F122)/F122 -> 0
A123: LILLEY | B123: 302021030 | C123: Geebung | D123: 30202103008 | E123: 3103008 | F123: 290 | G123: 298 | H123: =(G123-F123)/F123 -> 0.027586207
A124: LILLEY | B124: 302021030 | C124: Geebung | D124: 30202103009 | E124: 3103009 | F124: 442 | G124: 445 | H124: =(G124-F124)/F124 -> 0.0067873303
A125: LILLEY | B125: 302021030 | C125: Geebung | D125: 30202103010 | E125: 3103010 | F125: 287 | G125: 292 | H125: =(G125-F125)/F125 -> 0.017421603
A126: LILLEY | B126: 302021030 | C126: Geebung | D126: 30202103011 | E126: 3103011 | F126: 289 | G126: 305 | H126: =(G126-F126)/F126 -> 0.055363322
A127: LILLEY | B127: 302021031 | C127: Kedron - Gordon Park | D127: 30202103104 | E127: 3103104 | F127: 0 | G127: 0 | H127: 0
A128: LILLEY | B128: 302021031 | C128: Kedron - Gordon Park | D128: 30202103105 | E128: 3103105 | F128: 295 | G128: 302 | H128: =(G128-F128)/F128 -> 0.023728814
A129: LILLEY | B129: 302021031 | C129: Kedron - Gordon Park | D129: 30202103106 | E129: 3103106 | F129: 573 | G129: 580 | H129: =(G129-F129)/F129 -> 0.012216405
A130: LILLEY | B130: 302021031 | C130: Kedron - Gordon Park | D130: 30202103107 | E130: 3103107 | F130: 272 | G130: 275 | H130: =(G130-F130)/F130 -> 0.011029412
A131: LILLEY | B131: 302021031 | C131: Kedron - Gordon Park | D131: 30202103108 | E131: 3103108 | F131: 425 | G131: 434 | H131: =(G131-F131)/F131 -> 0.021176471
A132: LILLEY | B132: 302021031 | C132: Kedron - Gordon Park | D132: 30202103109 | E132: 3103109 | F132: 263 | G132: 271 | H132: =(G132-F132)/F132 -> 0.030418251
A133: LILLEY | B133: 302021031 | C133: Kedron - Gordon Park | D133: 30202103110 | E133: 3103110 | F133: 498 | G133: 519 | H133: =(G133-F133)/F133 -> 0.042168675
A134: LILLEY | B134: 302021031 | C134: Kedron - Gordon Park | D134: 30202103111 | E134: 3103111 | F134: 505 | G134: 511 | H134: =(G134-F134)/F134 -> 0.011881188
A135: LILLEY | B135: 302021031 | C135: Kedron - Gordon Park | D135: 30202103112 | E135: 3103112 | F135: 459 | G135: 474 | H135: =(G135-F135)/F135 -> 0.032679739
A136: LILLEY | B136: 302021031 | C136: Kedron - Gordon Park | D136: 30202103113 | E136: 3103113 | F136: 271 | G136: 288 | H136: =(G136-F136)/F136 -> 0.062730627
A137: LILLEY | B137: 302021031 | C137: Kedron - Gordon Park | D137: 30202103114 | E137: 3103114 | F137: 339 | G137: 347 | H137: =(G137-F137)/F137 -> 0.02359882
A138: LILLEY | B138: 302021031 | C138: Kedron - Gordon Park | D138: 30202103115 | E138: 3103115 | F138: 451 | G138: 455 | H138: =(G138-F138)/F138 -> 0.0088691796
...

Sheet Ryan
A1: Electorate | B1: Statistical Area Level 2 (SA2) Code (2021 SA2s) | C1: Statistical Area Level 2 (SA2) Name (2021 SA2s) | D1: Statistical Area Level 1 (SA1) Code (11-digit) (2021 SA1s) | E1: Statistical Area Level 1 (SA1) Code (7-digit) (2021 SA1s) | F1: Actual enrolments 28/07/2026 | G1: Projected enrolment 27/08/2028 | H1: Growth (%)
A2: RYAN | B2: 304021086 | C2: Bellbowrie - Moggill | D2: 30402108601 | E2: 3108601 | F2: 343 | G2: 357 | H2: =(G2-F2)/F2 -> 0.040816327
A3: RYAN | B3: 304021086 | C3: Bellbowrie - Moggill | D3: 30402108603 | E3: 3108603 | F3: 202 | G3: 203 | H3: =(G3-F3)/F3 -> 0.004950495
A4: RYAN | B4: 304021086 | C4: Bellbowrie - Moggill | D4: 30402108604 | E4: 3108604 | F4: 290 | G4: 289 | H4: =(G4-F4)/F4 -> -0.0034482759
A5: RYAN | B5: 304021086 | C5: Bellbowrie - Moggill | D5: 30402108605 | E5: 3108605 | F5: 463 | G5: 476 | H5: =(G5-F5)/F5 -> 0.028077754
A6: RYAN | B6: 304021086 | C6: Bellbowrie - Moggill | D6: 30402108611 | E6: 3108611 | F6: 247 | G6: 247 | H6: =(G6-F6)/F6 -> 0
A7: RYAN | B7: 304021086 | C7: Bellbowrie - Moggill | D7: 30402108612 | E7: 3108612 | F7: 340 | G7: 341 | H7: =(G7-F7)/F7 -> 0.0029411765
A8: RYAN | B8: 304021086 | C8: Bellbowrie - Moggill | D8: 30402108613 | E8: 3108613 | F8: 386 | G8: 374 | H8: =(G8-F8)/F8 -> -0.031088083
A9: RYAN | B9: 304021086 | C9: Bellbowrie - Moggill | D9: 30402108614 | E9: 3108614 | F9: 421 | G9: 441 | H9: =(G9-F9)/F9 -> 0.047505938
A10: RYAN | B10: 304021086 | C10: Bellbowrie - Moggill | D10: 30402108615 | E10: 3108615 | F10: 308 | G10: 324 | H10: =(G10-F10)/F10 -> 0.051948052
A11: RYAN | B11: 304021086 | C11: Bellbowrie - Moggill | D11: 30402108618 | E11: 3108618 | F11: 252 | G11: 250 | H11: =(G11-F11)/F11 -> -0.0079365079
A12: RYAN | B12: 304021086 | C12: Bellbowrie - Moggill | D12: 30402108619 | E12: 3108619 | F12: 307 | G12: 317 | H12: =(G12-F12)/F12 -> 0.03257329
A13: RYAN | B13: 304021086 | C13: Bellbowrie - Moggill | D13: 30402108620 | E13: 3108620 | F13: 239 | G13: 249 | H13: =(G13-F13)/F13 -> 0.041841004
... A18: RYAN | B18: 304021086 | C18: Bellbowrie - Moggill | D18: 30402108625 | E18: 3108625 | F18: 401 | G18: 397 | H18: =(G18-F18)/F18 -> -0.0099750623
A19: RYAN | B19: 304021086 | C19: Bellbowrie - Moggill | D19: 30402108626 | E19: 3108626 | F19: 0 | G19: 0 | H19: 0
A20: RYAN | B20: 304021086 | C20: Bellbowrie - Moggill | D20: 30402108627 | E20: 3108627 | F20: 312 | G20: 334 | H20: =(G20-F20)/F20 -> 0.070512821
A21: RYAN | B21: 304021086 | C21: Bellbowrie - Moggill | D21: 30402108628 | E21: 3108628 | F21: 325 | G21: 328 | H21: =(G21-F21)/F21 -> 0.0092307692
A22: RYAN | B22: 304021086 | C22: Bellbowrie - Moggill | D22: 30402108629 | E22: 3108629 | F22: 285 | G22: 287 | H22: =(G22-F22)/F22 -> 0.0070175439
A23: RYAN | B23: 304021086 | C23: Bellbowrie - Moggill | D23: 30402108630 | E23: 3108630 | F23: 265 | G23: 267 | H23: =(G23-F23)/F23 -> 0.0075471698
A24: RYAN | B24: 304021086 | C24: Bellbowrie - Moggill | D24: 30402108631 | E24: 3108631 | F24: 272 | G24: 273 | H24: =(G24-F24)/F24 -> 0.0036764706
A25: RYAN | B25: 304021086 | C25: Bellbowrie - Moggill | D25: 30402108632 | E25: 3108632 | F25: 364 | G25: 375 | H25: =(G25-F25)/F25 -> 0.03021978
A26: RYAN | B26: 304021086 | C26: Bellbowrie - Moggill | D26: 30402108633 | E26: 3108633 | F26: 266 | G26: 277 | H26: =(G26-F26)/F26 -> 0.041353383
A27: RYAN | B27: 304021086 | C27: Bellbowrie - Moggill | D27: 30402108634 | E27: 3108634 | F27: 207 | G27: 217 | H27: =(G27-F27)/F27 -> 0.048309179
A28: RYAN | B28: 304021086 | C28: Bellbowrie - Moggill | D28: 30402108635 | E28: 3108635 | F28: 293 | G28: 286 | H28: =(G28-F28)/F28 -> -0.023890785
A29: RYAN | B29: 304021087 | C29: Brookfield - Kenmore Hills | D29: 30402108701 | E29: 3108701 | F29: 41 | G29: 40 | H29: =(G29-F29)/F29 -> -0.024390244
A30: RYAN | B30: 304021087 | C30: Brookfield - Kenmore Hills | D30: 30402108702 | E30: 3108702 | F30: 360 | G30: 374 | H30: =(G30-F30)/F30 -> 0.038888889
A31: RYAN | B31: 304021087 | C31: Brookfield - Kenmore Hills | D31: 30402108703 | E31: 3108703 | F31: 282 | G31: 289 | H31: =(G31-F31)/F31 -> 0.024822695
... A240: RYAN | B240: 304041101 | C240: Mitchelton | D240: 30404110121 | E240: 3110121 | F240: 57 | G240: 58 | H240: =(G240-F240)/F240 -> 0.01754386
A241: RYAN | B241: 304041101 | C241: Mitchelton | D241: 30404110122 | E241: 3110122 | F241: 0 | G241: 0 | H241: 0
A242: RYAN | B242: 304041102 | C242: Mount Coot-tha | D242: 30404110201 | E242: 3110201 | F242: 0 | G242: 0 | H242: 0
A243: RYAN | B243: 304041103 | C243: The Gap | D243: 30404110301 | E243: 3110301 | F243: 137 | G243: 138 | H243: =(G243-F243)/F243 -> 0.0072992701
A244: RYAN | B244: 304041103 | C244: The Gap | D244: 30404110302 | E244: 3110302 | F244: 296 | G244: 299 | H244: =(G244-F244)/F244 -> 0.010135135
A245: RYAN | B245: 304041103 | C245: The Gap | D245: 30404110303 | E245: 3110303 | F245: 470 | G245: 475 | H245: =(G245-F245)/F245 -> 0.010638298
A246: RYAN | B246: 304041103 | C246: The Gap | D246: 30404110304 | E246: 3110304 | F246: 345 | G246: 341 | H246: =(G246-F246)/F246 -> -0.011594203
A247: RYAN | B247: 304041103 | C247: The Gap | D247: 30404110305 | E247: 3110305 | F247: 256 | G247: 260 | H247: =(G247-F247)/F247 -> 0.015625
A248: RYAN | B248: 304041103 | C248: The Gap | D248: 30404110306 | E248: 3110306 | F248: 432 | G248: 424 | H248: =(G248-F248)/F248 -> -0.018518519
A249: RYAN | B249: 304041103 | C249: The Gap | D249: 30404110307 | E249: 3110307 | F249: 252 | G249: 255 | H249: =(G249-F249)/F249 -> 0.011904762
A250: RYAN | B250: 304041103 | C250: The Gap | D250: 30404110308 | E250: 3110308 | F250: 371 | G250: 375 | H250: =(G250-F250)/F250 -> 0.010781671
A251: RYAN | B251: 304041103 | C251: The Gap | D251: 30404110309 | E251: 3110309 | F251: 407 | G251: 397 | H251: =(G251-F251)/F251 -> -0.024570025
A252: RYAN | B252: 304041103 | C252: The Gap | D252: 30404110310 | E252: 3110310 | F252: 265 | G252: 257 | H252: =(G252-F252)/F252 -> -0.030188679
A253: RYAN | B253: 304041103 | C253: The Gap | D253: 30404110311 | E253: 3110311 | F253: 425 | G253: 430 | H253: =(G253-F253)/F253 -> 0.011764706
A254: RYAN | B254: 304041103 | C254: The Gap | D254: 30404110312 | E254: 3110312 | F254: 224 | G254: 225 | H254: =(G254-F254)/F254 -> 0.0044642857
... A379: RYAN | B379: 310021279 | C379: Lake Manchester - England Creek | D379: 31002127901 | E379: 3127901 | F379: 10 | G379: 10 | H379: =(G379-F379)/F379 -> 0
A380: TOTAL | F380: =SUM(F2:F379) -> 115632 | G380: =SUM(G2:G379) -> 118545 | H380: =(G380-F380)/F380 -> 0.025191988
K381: From Lilley
G382: 132526 | J382: Everton Park | K382: 8049
F383: difference | G383: =G380-G382 -> -13981
F384: plus new | G384: =G380+K382+K385 -> 128417 | K384: From Brisbane
F385: shortage/surplus | G385: =G384-G382 -> -4109 | J385: Bardon &EP | K385: 1823
F386: quota | G386: =G385/G382 -> -0.031005237

Sheet Petrie
A1: Electorate | B1: Statistical Area Level 2 (SA2) Code (2021 SA2s) | C1: Statistical Area Level 2 (SA2) Name (2021 SA2s) | D1: Statistical Area Level 1 (SA1) Code (11-digit) (2021 SA1s) | E1: Statistical Area Level 1 (SA1) Code (7-digit) (2021 SA1s) | F1: Actual enrolments 28/07/2026 | G1: Projected enrolment 27/08/2028 | H1: Growth (%)
A2: PETRIE | B2: 302011022 | C2: Bald Hills | D2: 30201102201 | E2: 3102201 | F2: 5 | G2: 5 | H2: =(G2-F2)/F2 -> 0
A3: PETRIE | B3: 302011022 | C3: Bald Hills | D3: 30201102202 | E3: 3102202 | F3: 0 | G3: 0 | H3: 0
A4: PETRIE | B4: 302011022 | C4: Bald Hills | D4: 30201102205 | E4: 3102205 | F4: 302 | G4: 307 | H4: =(G4-F4)/F4 -> 0.016556291
A5: PETRIE | B5: 302011022 | C5: Bald Hills | D5: 30201102206 | E5: 3102206 | F5: 237 | G5: 234 | H5: =(G5-F5)/F5 -> -0.012658228
A6: PETRIE | B6: 302011022 | C6: Bald Hills | D6: 30201102207 | E6: 3102207 | F6: 291 | G6: 293 | H6: =(G6-F6)/F6 -> 0.0068728522 | J6: BH | K6: =SUM(G2:G14)+SUM(G16:G26) -> 5851
A7: PETRIE | B7: 302011022 | C7: Bald Hills | D7: 30201102208 | E7: 3102208 | F7: 262 | G7: 264 | H7: =(G7-F7)/F7 -> 0.0076335878
A8: PETRIE | B8: 302011022 | C8: Bald Hills | D8: 30201102209 | E8: 3102209 | F8: 219 | G8: 218 | H8: =(G8-F8)/F8 -> -0.00456621
A9: PETRIE | B9: 302011022 | C9: Bald Hills | D9: 30201102210 | E9: 3102210 | F9: 275 | G9: 288 | H9: =(G9-F9)/F9 -> 0.047272727
A10: PETRIE | B10: 302011022 | C10: Bald Hills | D10: 30201102212 | E10: 3102212 | F10: 221 | G10: 224 | H10: =(G10-F10)/F10 -> 0.013574661
A11: PETRIE | B11: 302011022 | C11: Bald Hills | D11: 30201102213 | E11: 3102213 | F11: 222 | G11: 219 | H11: =(G11-F11)/F11 -> -0.013513514
A12: PETRIE | B12: 302011022 | C12: Bald Hills | D12: 30201102214 | E12: 3102214 | F12: 222 | G12: 220 | H12: =(G12-F12)/F12 -> -0.009009009
A13: PETRIE | B13: 302011022 | C13: Bald Hills | D13: 30201102215 | E13: 3102215 | F13: 425 | G13: 439 | H13: =(G13-F13)/F13 -> 0.032941176
A14: PETRIE | B14: 302011022 | C14: Bald Hills | D14: 30201102217 | E14: 3102217 | F14: 208 | G14: 214 | H14: =(G14-F14)/F14 -> 0.028846154
A15: PETRIE | B15: 302011022 | C15: Bald Hills | D15: 30201102219 | E15: 3102219 | F15: 6 | G15: 6 | H15: =(G15-F15)/F15 -> 0
A16: PETRIE | B16: 302011022 | C16: Bald Hills | D16: 30201102220 | E16: 3102220 | F16: 0 | G16: 0 | H16: 0
A17: PETRIE | B17: 302011022 | C17: Bald Hills | D17: 30201102221 | E17: 3102221 | F17: 324 | G17: 328 | H17: =(G17-F17)/F17 -> 0.012345679
A18: PETRIE | B18: 302011022 | C18: Bald Hills | D18: 30201102222 | E18: 3102222 | F18: 294 | G18: 292 | H18: =(G18-F18)/F18 -> -0.0068027211
A19: PETRIE | B19: 302011022 | C19: Bald Hills | D19: 30201102223 | E19: 3102223 | F19: 252 | G19: 269 | H19: =(G19-F19)/F19 -> 0.067460317
A20: PETRIE | B20: 302011022 | C20: Bald Hills | D20: 30201102224 | E20: 3102224 | F20: 371 | G20: 388 | H20: =(G20-F20)/F20 -> 0.045822102
A21: PETRIE | B21: 302011022 | C21: Bald Hills | D21: 30201102225 | E21: 3102225 | F21: 250 | G21: 271 | H21: =(G21-F21)/F21 -> 0.084
A22: PETRIE | B22: 302011022 | C22: Bald Hills | D22: 30201102226 | E22: 3102226 | F22: 259 | G22: 266 | H22: =(G22-F22)/F22 -> 0.027027027
A23: PETRIE | B23: 302011022 | C23: Bald Hills | D23: 30201102227 | E23: 3102227 | F23: 332 | G23: 353 | H23: =(G23-F23)/F23 -> 0.063253012
A24: PETRIE | B24: 302011022 | C24: Bald Hills | D24: 30201102228 | E24: 3102228 | F24: 210 | G24: 219 | H24: =(G24-F24)/F24 -> 0.042857143
A25: PETRIE | B25: 302011022 | C25: Bald Hills | D25: 30201102229 | E25: 3102229 | F25: 307 | G25: 309 | H25: =(G25-F25)/F25 -> 0.006514658
A26: PETRIE | B26: 302011022 | C26: Bald Hills | D26: 30201102230 | E26: 3102230 | F26: 229 | G26: 231 | H26: =(G26-F26)/F26 -> 0.0087336245
A27: PETRIE | B27: 302011023 | C27: Bridgeman Downs | D27: 30201102309 | E27: 3102309 | F27: 387 | G27: 418 | H27: =(G27-F27)/F27 -> 0.080103359
A28: PETRIE | B28: 302011023 | C28: Bridgeman Downs | D28: 30201102315 | E28: 3102315 | F28: 715 | G28: 774 | H28: =(G28-F28)/F28 -> 0.082517483
... A67: PETRIE | B67: 302021027 | C67: Aspley | D67: 30202102735 | E67: 3102735 | F67: 217 | G67: 215 | H67: =(G67-F67)/F67 -> -0.0092165899
A68: PETRIE | B68: 302021027 | C68: Aspley | D68: 30202102736 | E68: 3102736 | F68: 0 | G68: 0 | H68: 0
A69: PETRIE | B69: 302021027 | C69: Aspley | D69: 30202102737 | E69: 3102737 | F69: 272 | G69: 267 | H69: =(G69-F69)/F69 -> -0.018382353
A70: PETRIE | B70: 302021027 | C70: Aspley | D70: 30202102739 | E70: 3102739 | F70: 158 | G70: 162 | H70: =(G70-F70)/F70 -> 0.025316456
A71: PETRIE | B71: 302021027 | C71: Aspley | D71: 30202102740 | E71: 3102740 | F71: 139 | G71: 141 | H71: =(G71-F71)/F71 -> 0.014388489
A72: PETRIE | B72: 302041041 | C72: Bracken Ridge | D72: 30204104101 | E72: 3104101 | F72: 265 | G72: 256 | H72: =(G72-F72)/F72 -> -0.033962264
A73: PETRIE | B73: 302041041 | C73: Bracken Ridge | D73: 30204104102 | E73: 3104102 | F73: 423 | G73: 426 | H73: =(G73-F73)/F73 -> 0.0070921986
A74: PETRIE | B74: 302041041 | C74: Bracken Ridge | D74: 30204104103 | E74: 3104103 | F74: 300 | G74: 309 | H74: =(G74-F74)/F74 -> 0.03
A75: PETRIE | B75: 302041041 | C75: Bracken Ridge | D75: 30204104104 | E75: 3104104 | F75: 228 | G75: 231 | H75: =(G75-F75)/F75 -> 0.013157895
A76: PETRIE | B76: 302041041 | C76: Bracken Ridge | D76: 30204104105 | E76: 3104105 | F76: 260 | G76: 255 | H76: =(G76-F76)/F76 -> -0.019230769
A77: PETRIE | B77: 302041041 | C77: Bracken Ridge | D77: 30204104106 | E77: 3104106 | F77: 236 | G77: 236 | H77: =(G77-F77)/F77 -> 0
A78: PETRIE | B78: 302041041 | C78: Bracken Ridge | D78: 30204104107 | E78: 3104107 | F78: 195 | G78: 193 | H78: =(G78-F78)/F78 -> -0.01025641
A79: PETRIE | B79: 302041041 | C79: Bracken Ridge | D79: 30204104108 | E79: 3104108 | F79: 380 | G79: 384 | H79: =(G79-F79)/F79 -> 0.010526316
A80: PETRIE | B80: 302041041 | C80: Bracken Ridge | D80: 30204104109 | E80: 3104109 | F80: 290 | G80: 299 | H80: =(G80-F80)/F80 -> 0.031034483
... A111: PETRIE | B111: 302041041 | C111: Bracken Ridge | D111: 30204104143 | E111: 3104143 | F111: 361 | G111: 371 | H111: =(G111-F111)/F111 -> 0.027700831
A112: PETRIE | B112: 302041045 | C112: Taigum - Fitzgibbon | D112: 30204104501 | E112: 3104501 | F112: 0 | G112: 0 | H112: 0
A113: PETRIE | B113: 302041045 | C113: Taigum - Fitzgibbon | D113: 30204104506 | E113: 3104506 | F113: 357 | G113: 349 | H113: =(G113-F113)/F113 -> -0.022408964 | K113: =SUM(G112:G133) -> 4090
A114: PETRIE | B114: 302041045 | C114: Taigum - Fitzgibbon | D114: 30204104509 | E114: 3104509 | F114: 300 | G114: 311 | H114: =(G114-F114)/F114 -> 0.036666667
A115: PETRIE | B115: 302041045 | C115: Taigum - Fitzgibbon | D115: 30204104514 | E115: 3104514 | F115: 261 | G115: 264 | H115: =(G115-F115)/F115 -> 0.011494253
A116: PETRIE | B116: 302041045 | C116: Taigum - Fitzgibbon | D116: 30204104515 | E116: 3104515 | F116: 366 | G116: 366 | H116: =(G116-F116)/F116 -> 0
A117: PETRIE | B117: 302041045 | C117: Taigum - Fitzgibbon | D117: 30204104517 | E117: 3104517 | F117: 5 | G117: 5 | H117: =(G117-F117)/F117 -> 0
A118: PETRIE | B118: 302041045 | C118: Taigum - Fitzgibbon | D118: 30204104519 | E118: 3104519 | F118: 101 | G118: 104 | H118: =(G118-F118)/F118 -> 0.02970297
A119: PETRIE | B119: 302041045 | C119: Taigum - Fitzgibbon | D119: 30204104522 | E119: 3104522 | F119: 244 | G119: 251 | H119: =(G119-F119)/F119 -> 0.028688525
A120: PETRIE | B120: 302041045 | C120: Taigum - Fitzgibbon | D120: 30204104523 | E120: 3104523 | F120: 214 | G120: 209 | H120: =(G120-F120)/F120 -> -0.023364486
A121: PETRIE | B121: 302041045 | C121: Taigum - Fitzgibbon | D121: 30204104525 | E121: 3104525 | F121: 134 | G121: 137 | H121: =(G121-F121)/F121 -> 0.02238806
A122: PETRIE | B122: 302041045 | C122: Taigum - Fitzgibbon | D122: 30204104526 | E122: 3104526 | F122: 182 | G122: 183 | H122: =(G122-F122)/F122 -> 0.0054945055
A123: PETRIE | B123: 302041045 | C123: Taigum - Fitzgibbon | D123: 30204104527 | E123: 3104527 | F123: 109 | G123: 110 | H123: =(G123-F123)/F123 -> 0.0091743119
A124: PETRIE | B124: 302041045 | C124: Taigum - Fitzgibbon | D124: 30204104528 | E124: 3104528 | F124: 104 | G124: 107 | H124: =(G124-F124)/F124 -> 0.028846154
A125: PETRIE | B125: 302041045 | C125: Taigum - Fitzgibbon | D125: 30204104530 | E125: 3104530 | F125: 279 | G125: 281 | H125: =(G125-F125)/F125 -> 0.0071684588
... A145: PETRIE | B145: 313041373 | C145: Deception Bay | D145: 31304137312 | E145: 3137312 | F145: 551 | G145: 571 | H145: =(G145-F145)/F145 -> 0.036297641
A146: PETRIE | B146: 313041373 | C146: Deception Bay | D146: 31304137313 | E146: 3137313 | F146: 0 | G146: 0 | H146: 0
A147: PETRIE | B147: 313041373 | C147: Deception Bay | D147: 31304137314 | E147: 3137314 | F147: 985 | G147: 1006 | H147: =(G147-F147)/F147 -> 0.021319797
A148: PETRIE | B148: 313041373 | C148: Deception Bay | D148: 31304137315 | E148: 3137315 | F148: 175 | G148: 187 | H148: =(G148-F148)/F148 -> 0.068571429
A149: PETRIE | B149: 313041373 | C149: Deception Bay | D149: 31304137316 | E149: 3137316 | F149: 222 | G149: 225 | H149: =(G149-F149)/F149 -> 0.013513514
A150: PETRIE | B150: 313041373 | C150: Deception Bay | D150: 31304137317 | E150: 3137317 | F150: 136 | G150: 142 | H150: =(G150-F150)/F150 -> 0.044117647
A151: PETRIE | B151: 313041373 | C151: Deception Bay | D151: 31304137318 | E151: 3137318 | F151: 396 | G151: 427 | H151: =(G151-F151)/F151 -> 0.078282828
A152: PETRIE | B152: 313041373 | C152: Deception Bay | D152: 31304137319 | E152: 3137319 | F152: 329 | G152: 354 | H152: =(G152-F152)/F152 -> 0.075987842
A153: PETRIE | B153: 313041373 | C153: Deception Bay | D153: 31304137320 | E153: 3137320 | F153: 544 | G153: 571 | H153: =(G153-F153)/F153 -> 0.049632353
A154: PETRIE | B154: 313041373 | C154: Deception Bay | D154: 31304137321 | E154: 3137321 | F154: 331 | G154: 353 | H154: =(G154-F154)/F154 -> 0.066465257 | J154: BD, ASP, CAR | K154: =SUM(G27:G71) -> 13725
A155: PETRIE | B155: 313041373 | C155: Deception Bay | D155: 31304137323 | E155: 3137323 | F155: 384 | G155: 414 | H155: =(G155-F155)/F155 -> 0.078125
A156: PETRIE | B156: 313041373 | C156: Deception Bay | D156: 31304137324 | E156: 3137324 | F156: 226 | G156: 248 | H156: =(G156-F156)/F156 -> 0.097345133
A157: PETRIE | B157: 313041373 | C157: Deception Bay | D157: 31304137325 | E157: 3137325 | F157: 203 | G157: 224 | H157: =(G157-F157)/F157 -> 0.10344828
A158: PETRIE | B158: 313041373 | C158: Deception Bay | D158: 31304137326 | E158: 3137326 | F158: 342 | G158: 386 | H158: =(G158-F158)/F158 -> 0.12865497
A159: PETRIE | B159: 313041373 | C159: Deception Bay | D159: 31304137327 | E159: 3137327 | F159: 0 | G159: 0 | H159: 0
A160: PETRIE | B160: 313041373 | C160: Deception Bay | D160: 31304137328 | E160: 3137328 | F160: 540 | G160: 554 | H160: =(G160-F160)/F160 -> 0.025925926
A161: PETRIE | B161: 313041373 | C161: Deception Bay | D161: 31304137329 | E161: 3137329 | F161: 755 | G161: 784 | H161: =(G161-F161)/F161 -> 0.038410596
A162: PETRIE | B162: 313041373 | C162: Deception Bay | D162: 31304137330 | E162: 3137330 | F162: 866 | G162: 1029 | H162: =(G162-F162)/F162 -> 0.18822171
A163: PETRIE | B163: 313041373 | C163: Deception Bay | D163: 31304137331 | E163: 3137331 | F163: 341 | G163: 346 | H163: =(G163-F163)/F163 -> 0.014662757
A164: PETRIE | B164: 313041373 | C164: Deception Bay | D164: 31304137332 | E164: 3137332 | F164: 359 | G164: 380 | H164: =(G164-F164)/F164 -> 0.058495822
A165: PETRIE | B165: 313041373 | C165: Deception Bay | D165: 31304137333 | E165: 3137333 | F165: 446 | G165: 453 | H165: =(G165-F165)/F165 -> 0.015695067
A166: PETRIE | B166: 313041373 | C166: Deception Bay | D166: 31304137334 | E166: 3137334 | F166: 231 | G166: 244 | H166: =(G166-F166)/F166 -> 0.056277056
A167: PETRIE | B167: 313041373 | C167: Deception Bay | D167: 31304137335 | E167: 3137335 | F167: 252 | G167: 271 | H167: =(G167-F167)/F167 -> 0.075396825
A168: PETRIE | B168: 313041373 | C168: Deception Bay | D168: 31304137336 | E168: 3137336 | F168: 91 | G168: 101 | H168: =(G168-F168)/F168 -> 0.10989011
A169: PETRIE | B169: 313041373 | C169: Deception Bay | D169: 31304137337 | E169: 3137337 | F169: 0 | G169: 0 | H169: 0
A170: PETRIE | B170: 313041373 | C170: Deception Bay | D170: 31304137338 | E170: 3137338 | F170: 198 | G170: 210 | H170: =(G170-F170)/F170 -> 0.060606061
A171: PETRIE | B171: 313041373 | C171: Deception Bay | D171: 31304137339 | E171: 3137339 | F171: 330 | G171: 344 | H171: =(G171-F171)/F171 -> 0.042424242
A172: PETRIE | B172: 313041373 | C172: Deception Bay | D172: 31304137340 | E172: 3137340 | F172: 234 | G172: 244 | H172: =(G172-F172)/F172 -> 0.042735043
A173: PETRIE | B173: 313041373 | C173: Deception Bay | D173: 31304137341 | E173: 3137341 | F173: 339 | G173: 351 | H173: =(G173-F173)/F173 -> 0.03539823
A174: PETRIE | B174: 313041373 | C174: Deception Bay | D174: 31304137342 | E174: 3137342 | F174: 322 | G174: 313 | H174: =(G174-F174)/F174 -> -0.027950311
A175: PETRIE | B175: 313041373 | C175: Deception Bay | D175: 31304137343 | E175: 3137343 | F175: 305 | G175: 297 | H175: =(G175-F175)/F175 -> -0.026229508
A176: PETRIE | B176: 313041373 | C176: Deception Bay | D176: 31304137344 | E176: 3137344 | F176: 240 | G176: 248 | H176: =(G176-F176)/F176 -> 0.033333333
A177: PETRIE | B177: 313041373 | C177: Deception Bay | D177: 31304137345 | E177: 3137345 | F177: 206 | G177: 207 | H177: =(G177-F177)/F177 -> 0.0048543689
A178: PETRIE | B178: 313041373 | C178: Deception Bay | D178: 31304137346 | E178: 3137346 | F178: 188 | G178: 202 | H178: =(G178-F178)/F178 -> 0.074468085
A179: PETRIE | B179: 313041373 | C179: Deception Bay | D179: 31304137347 | E179: 3137347 | F179: 563 | G179: 573 | H179: =(G179-F179)/F179 -> 0.017761989
A180: PETRIE | B180: 313041373 | C180: Deception Bay | D180: 31304137348 | E180: 3137348 | F180: 410 | G180: 422 | H180: =(G180-F180)/F180 -> 0.029268293
A181: PETRIE | B181: 313041373 | C181: Deception Bay | D181: 31304137349 | E181: 3137349 | F181: 339 | G181: 350 | H181: =(G181-F181)/F181 -> 0.032448378
... A191: PETRIE | B191: 313051377 | C191: Clontarf | D191: 31305137702 | E191: 3137702 | F191: 28 | G191: 29 | H191: =(G191-F191)/F191 -> 0.035714286
A192: PETRIE | B192: 313051377 | C192: Clontarf | D192: 31305137703 | E192: 3137703 | F192: 0 | G192: 0 | H192: 0
A193: PETRIE | B193: 313051377 | C193: Clontarf | D193: 31305137704 | E193: 3137704 | F193: 267 | G193: 274 | H193: =(G193-F193)/F193 -> 0.026217228
A194: PETRIE | B194: 313051377 | C194: Clontarf | D194: 31305137705 | E194: 3137705 | F194: 345 | G194: 366 | H194: =(G194-F194)/F194 -> 0.060869565
A195: PETRIE | B195: 313051377 | C195: Clontarf | D195: 31305137706 | E195: 3137706 | F195: 267 | G195: 279 | H195: =(G195-F195)/F195 -> 0.04494382
A196: PETRIE | B196: 313051377 | C196: Clontarf | D196: 31305137707 | E196: 3137707 | F196: 488 | G196: 499 | H196: =(G196-F196)/F196 -> 0.022540984
...
