Workbook
Name Full: #REF!
Name Glossary: #REF!
Name Introduction: #REF!
Name scope: #REF!
Name table1: [1]Contents!#REF!

Sheet Summary
A1: Quota | B1: 132526
B3: Current | D3: Proposed
A4: Electorate | B4: Population | C4: Variation from Quota | D4: Population | E4: Variation from Quota
A5: BRISBANE | B5: =SUMIFS(Data!$G:$G,Data!$A:$A,Summary!$A5) -> 133341 | C5: =(B5/$B$1)-1 -> 0.0061497367 | D5: =SUMIFS(Data!$G:$G,Data!$I:$I,Summary!$A5) -> 131518 | E5: =(D5/$B$1)-1 -> -0.0076060547
A6: DICKSON | B6: =SUMIFS(Data!$G:$G,Data!$A:$A,Summary!$A6) -> 124841 | C6: =(B6/$B$1)-1 -> -0.057988621 | D6: =SUMIFS(Data!$G:$G,Data!$I:$I,Summary!$A6) -> 133558 | E6: =(D6/$B$1)-1 -> 0.0077871512
A7: LONGMAN | B7: =SUMIFS(Data!$G:$G,Data!$A:$A,Summary!$A7) -> 156827 | C7: =(B7/$B$1)-1 -> 0.18336779 | D7: =SUMIFS(Data!$G:$G,Data!$I:$I,Summary!$A7) -> 136556 | E7: =(D7/$B$1)-1 -> 0.030409127
A8: LILLEY | B8: =SUMIFS(Data!$G:$G,Data!$A:$A,Summary!$A8) -> 122571 | C8: =(B8/$B$1)-1 -> -0.075117335 | D8: =SUMIFS(Data!$G:$G,Data!$I:$I,Summary!$A8) -> 136003 | E8: =(D8/$B$1)-1 -> 0.026236361
A9: RYAN | B9: =SUMIFS(Data!$G:$G,Data!$A:$A,Summary!$A9) -> 118545 | C9: =(B9/$B$1)-1 -> -0.10549628 | D9: =SUMIFS(Data!$G:$G,Data!$I:$I,Summary!$A9) -> 129469 | E9: =(D9/$B$1)-1 -> -0.023067172
A10: PETRIE | B10: =SUMIFS(Data!$G:$G,Data!$A:$A,Summary!$A10) -> 143120 | C10: =(B10/$B$1)-1 -> 0.079939031 | D10: =SUMIFS(Data!$G:$G,Data!$I:$I,Summary!$A10) -> 132141 | E10: =(D10/$B$1)-1 -> -0.0029050903

Sheet Data
A1: Electorate | B1: Statistical Area Level 2 (SA2) Code (2021 SA2s) | C1: Statistical Area Level 2 (SA2) Name (2021 SA2s) | D1: Statistical Area Level 1 (SA1) Code (11-digit) (2021 SA1s) | E1: Statistical Area Level 1 (SA1) Code (7-digit) (2021 SA1s) | F1: Actual enrolments 28/07/2026 | G1: Projected enrolment 27/08/2028 | H1: Growth (%) | I1: New Allocation
A2: BRISBANE | B2: 302011025 | C2: Everton Park | D2: 30201102516 | E2: 3102516 | F2: 82 | G2: 83 | H2: =(G2-F2)/F2 -> 0.012195122 | I2: RYAN
A3: BRISBANE | B3: 302021031 | C3: Kedron - Gordon Park | D3: 30202103101 | E3: 3103101 | F3: 454 | G3: 459 | H3: =(G3-F3)/F3 -> 0.011013216 | I3: =A3 -> BRISBANE
A4: BRISBANE | B4: 302021031 | C4: Kedron - Gordon Park | D4: 30202103102 | E4: 3103102 | F4: 432 | G4: 459 | H4: =(G4-F4)/F4 -> 0.0625 | I4: =A4 -> BRISBANE
A5: BRISBANE | B5: 302021031 | C5: Kedron - Gordon Park | D5: 30202103103 | E5: 3103103 | F5: 280 | G5: 281 | H5: =(G5-F5)/F5 -> 0.0035714286 | I5: =A5 -> BRISBANE
A6: BRISBANE | B6: 302021031 | C6: Kedron - Gordon Park | D6: 30202103125 | E6: 3103125 | F6: 346 | G6: 335 | H6: =(G6-F6)/F6 -> -0.031791908 | I6: =A6 -> BRISBANE
A7: BRISBANE | B7: 302021031 | C7: Kedron - Gordon Park | D7: 30202103126 | E7: 3103126 | F7: 329 | G7: 319 | H7: =(G7-F7)/F7 -> -0.030395137 | I7: =A7 -> BRISBANE
A8: BRISBANE | B8: 302021031 | C8: Kedron - Gordon Park | D8: 30202103127 | E8: 3103127 | F8: 386 | G8: 381 | H8: =(G8-F8)/F8 -> -0.012953368 | I8: =A8 -> BRISBANE
A9: BRISBANE | B9: 302021031 | C9: Kedron - Gordon Park | D9: 30202103128 | E9: 3103128 | F9: 245 | G9: 251 | H9: =(G9-F9)/F9 -> 0.024489796 | I9: =A9 -> BRISBANE
A10: BRISBANE | B10: 302021031 | C10: Kedron - Gordon Park | D10: 30202103129 | E10: 3103129 | F10: 282 | G10: 282 | H10: =(G10-F10)/F10 -> 0 | I10: =A10 -> BRISBANE
A11: BRISBANE | B11: 302021031 | C11: Kedron - Gordon Park | D11: 30202103130 | E11: 3103130 | F11: 265 | G11: 281 | H11: =(G11-F11)/F11 -> 0.060377358 | I11: =A11 -> BRISBANE
A12: BRISBANE | B12: 302021031 | C12: Kedron - Gordon Park | D12: 30202103131 | E12: 3103131 | F12: 298 | G12: 302 | H12: =(G12-F12)/F12 -> 0.013422819 | I12: =A12 -> BRISBANE
A13: BRISBANE | B13: 302021032 | C13: Stafford | D13: 30202103206 | E13: 3103206 | F13: 267 | G13: 274 | H13: =(G13-F13)/F13 -> 0.026217228 | I13: =A13 -> BRISBANE
A14: BRISBANE | B14: 302021032 | C14: Stafford | D14: 30202103209 | E14: 3103209 | F14: 258 | G14: 270 | H14: =(G14-F14)/F14 -> 0.046511628 | I14: =A14 -> BRISBANE
... A19: BRISBANE | B19: 302021032 | C19: Stafford | D19: 30202103221 | E19: 3103221 | F19: 231 | G19: 223 | H19: =(G19-F19)/F19 -> -0.034632035 | I19: =A19 -> BRISBANE
A20: BRISBANE | B20: 302021032 | C20: Stafford | D20: 30202103223 | E20: 3103223 | F20: 0 | G20: 0 | H20: 0 | I20: =A20 -> BRISBANE
A21: BRISBANE | B21: 302021032 | C21: Stafford | D21: 30202103225 | E21: 3103225 | F21: 4 | G21: 4 | H21: =(G21-F21)/F21 -> 0 | I21: =A21 -> BRISBANE
A22: BRISBANE | B22: 302031036 | C22: Brisbane Airport | D22: 30203103603 | E22: 3103603 | F22: 0 | G22: 0 | H22: 0 | I22: =A22 -> BRISBANE
A23: BRISBANE | B23: 302031037 | C23: Eagle Farm - Pinkenba | D23: 30203103705 | E23: 3103705 | F23: 257 | G23: 338 | H23: =(G23-F23)/F23 -> 0.3151751 | I23: =A23 -> BRISBANE
A24: BRISBANE | B24: 302031037 | C24: Eagle Farm - Pinkenba | D24: 30203103706 | E24: 3103706 | F24: 170 | G24: 225 | H24: =(G24-F24)/F24 -> 0.32352941 | I24: =A24 -> BRISBANE
A25: BRISBANE | B25: 302031037 | C25: Eagle Farm - Pinkenba | D25: 30203103707 | E25: 3103707 | F25: 323 | G25: 368 | H25: =(G25-F25)/F25 -> 0.13931889 | I25: =A25 -> BRISBANE
A26: BRISBANE | B26: 302031037 | C26: Eagle Farm - Pinkenba | D26: 30203103708 | E26: 3103708 | F26: 801 | G26: 1126 | H26: =(G26-F26)/F26 -> 0.40574282 | I26: =A26 -> BRISBANE
A27: BRISBANE | B27: 304041098 | C27: Enoggera | D27: 30404109801 | E27: 3109801 | F27: 221 | G27: 214 | H27: =(G27-F27)/F27 -> -0.031674208 | I27: =A27 -> BRISBANE
A28: BRISBANE | B28: 304041098 | C28: Enoggera | D28: 30404109802 | E28: 3109802 | F28: 337 | G28: 332 | H28: =(G28-F28)/F28 -> -0.014836795 | I28: =A28 -> BRISBANE
A29: BRISBANE | B29: 304041098 | C29: Enoggera | D29: 30404109803 | E29: 3109803 | F29: 461 | G29: 475 | H29: =(G29-F29)/F29 -> 0.030368764 | I29: =A29 -> BRISBANE
A30: BRISBANE | B30: 304041098 | C30: Enoggera | D30: 30404109809 | E30: 3109809 | F30: 423 | G30: 428 | H30: =(G30-F30)/F30 -> 0.011820331 | I30: =A30 -> BRISBANE
A31: BRISBANE | B31: 304041098 | C31: Enoggera | D31: 30404109811 | E31: 3109811 | F31: 278 | G31: 285 | H31: =(G31-F31)/F31 -> 0.025179856 | I31: =A31 -> BRISBANE
A32: BRISBANE | B32: 304041098 | C32: Enoggera | D32: 30404109812 | E32: 3109812 | F32: 570 | G32: 598 | H32: =(G32-F32)/F32 -> 0.049122807 | I32: =A32 -> BRISBANE
A33: BRISBANE | B33: 305011105 | C33: Brisbane City | D33: 30501110501 | E33: 3110501 | F33: 349 | G33: 406 | H33: =(G33-F33)/F33 -> 0.16332378 | I33: =A33 -> BRISBANE
A34: BRISBANE | B34: 305011105 | C34: Brisbane City | D34: 30501110505 | E34: 3110505 | F34: 82 | G34: 93 | H34: =(G34-F34)/F34 -> 0.13414634 | I34: =A34 -> BRISBANE
... A43: BRISBANE | B43: 305011105 | C43: Brisbane City | D43: 30501110520 | E43: 3110520 | F43: 540 | G43: 557 | H43: =(G43-F43)/F43 -> 0.031481481 | I43: =A43 -> BRISBANE
A44: BRISBANE | B44: 305011105 | C44: Brisbane City | D44: 30501110521 | E44: 3110521 | F44: 0 | G44: 0 | H44: 0 | I44: =A44 -> BRISBANE
A45: BRISBANE | B45: 305011105 | C45: Brisbane City | D45: 30501110522 | E45: 3110522 | F45: 269 | G45: 305 | H45: =(G45-F45)/F45 -> 0.133829 | I45: =A45 -> BRISBANE
A46: BRISBANE | B46: 305011105 | C46: Brisbane City | D46: 30501110523 | E46: 3110523 | F46: 203 | G46: 226 | H46: =(G46-F46)/F46 -> 0.11330049 | I46: =A46 -> BRISBANE
A47: BRISBANE | B47: 305011105 | C47: Brisbane City | D47: 30501110526 | E47: 3110526 | F47: 302 | G47: 363 | H47: =(G47-F47)/F47 -> 0.20198675 | I47: =A47 -> BRISBANE
A48: BRISBANE | B48: 305011105 | C48: Brisbane City | D48: 30501110527 | E48: 3110527 | F48: 535 | G48: 639 | H48: =(G48-F48)/F48 -> 0.19439252 | I48: =A48 -> BRISBANE
A49: BRISBANE | B49: 305011105 | C49: Brisbane City | D49: 30501110528 | E49: 3110528 | F49: 153 | G49: 175 | H49: =(G49-F49)/F49 -> 0.14379085 | I49: =A49 -> BRISBANE
A50: BRISBANE | B50: 305011105 | C50: Brisbane City | D50: 30501110529 | E50: 3110529 | F50: 299 | G50: 331 | H50: =(G50-F50)/F50 -> 0.10702341 | I50: =A50 -> BRISBANE
A51: BRISBANE | B51: 305011105 | C51: Brisbane City | D51: 30501110530 | E51: 3110530 | F51: 158 | G51: 177 | H51: =(G51-F51)/F51 -> 0.12025316 | I51: =A51 -> BRISBANE
A52: BRISBANE | B52: 305011105 | C52: Brisbane City | D52: 30501110531 | E52: 3110531 | F52: 169 | G52: 198 | H52: =(G52-F52)/F52 -> 0.17159763 | I52: =A52 -> BRISBANE
...

Sheet Lookups
A1: Electorate
A2: BRISBANE
A3: DICKSON
A4: LONGMAN
A5: LILLEY
A6: RYAN
A7: PETRIE
C11: {=_xlfn.UNIQUE(Data!A:A)} -> Electorate
C12: BRISBANE
C13: DICKSON
C14: LONGMAN
C15: LILLEY
C16: RYAN
C17: PETRIE
C18: 0

Sheet Brisbane
A1: Electorate | B1: Statistical Area Level 2 (SA2) Code (2021 SA2s) | C1: Statistical Area Level 2 (SA2) Name (2021 SA2s) | D1: Statistical Area Level 1 (SA1) Code (11-digit) (2021 SA1s) | E1: Statistical Area Level 1 (SA1) Code (7-digit) (2021 SA1s) | F1: Actual enrolments 28/07/2026 | G1: Projected enrolment 27/08/2028 | H1: Growth (%)
A2: BRISBANE | B2: 302011025 | C2: Everton Park | D2: 30201102516 | E2: 3102516 | F2: 82 | G2: 83 | H2: =(G2-F2)/F2 -> 0.012195122
A3: BRISBANE | B3: 302021031 | C3: Kedron - Gordon Park | D3: 30202103101 | E3: 3103101 | F3: 454 | G3: 459 | H3: =(G3-F3)/F3 -> 0.011013216
A4: BRISBANE | B4: 302021031 | C4: Kedron - Gordon Park | D4: 30202103102 | E4: 3103102 | F4: 432 | G4: 459 | H4: =(G4-F4)/F4 -> 0.0625
A5: BRISBANE | B5: 302021031 | C5: Kedron - Gordon Park | D5: 30202103103 | E5: 3103103 | F5: 280 | G5: 281 | H5: =(G5-F5)/F5 -> 0.0035714286
A6: BRISBANE | B6: 302021031 | C6: Kedron - Gordon Park | D6: 30202103125 | E6: 3103125 | F6: 346 | G6: 335 | H6: =(G6-F6)/F6 -> -0.031791908
A7: BRISBANE | B7: 302021031 | C7: Kedron - Gordon Park | D7: 30202103126 | E7: 3103126 | F7: 329 | G7: 319 | H7: =(G7-F7)/F7 -> -0.030395137
A8: BRISBANE | B8: 302021031 | C8: Kedron - Gordon Park | D8: 30202103127 | E8: 3103127 | F8: 386 | G8: 381 | H8: =(G8-F8)/F8 -> -0.012953368
A9: BRISBANE | B9: 302021031 | C9: Kedron - Gordon Park | D9: 30202103128 | E9: 3103128 | F9: 245 | G9: 251 | H9: =(G9-F9)/F9 -> 0.024489796
A10: BRISBANE | B10: 302021031 | C10: Kedron - Gordon Park | D10: 30202103129 | E10: 3103129 | F10: 282 | G10: 282 | H10: =(G10-F10)/F10 -> 0
A11: BRISBANE | B11: 302021031 | C11: Kedron - Gordon Park | D11: 30202103130 | E11: 3103130 | F11: 265 | G11: 281 | H11: =(G11-F11)/F11 -> 0.060377358
A12: BRISBANE | B12: 302021031 | C12: Kedron - Gordon Park | D12: 30202103131 | E12: 3103131 | F12: 298 | G12: 302 | H12: =(G12-F12)/F12 -> 0.013422819
A13: BRISBANE | B13: 302021032 | C13: Stafford | D13: 30202103206 | E13: 3103206 | F13: 267 | G13: 274 | H13: =(G13-F13)/F13 -> 0.026217228
... A19: BRISBANE | B19: 302021032 | C19: Stafford | D19: 30202103221 | E19: 3103221 | F19: 231 | G19: 223 | H19: =(G19-F19)/F19 -> -0.034632035
A20: BRISBANE | B20: 302021032 | C20: Stafford | D20: 30202103223 | E20: 3103223 | F20: 0 | G20: 0 | H20: 0
A21: BRISBANE | B21: 302021032 | C21: Stafford | D21: 30202103225 | E21: 3103225 | F21: 4 | G21: 4 | H21: =(G21-F21)/F21 -> 0
A22: BRISBANE | B22: 302031036 | C22: Brisbane Airport | D22: 30203103603 | E22: 3103603 | F22: 0 | G22: 0 | H22: 0
A23: BRISBANE | B23: 302031037 | C23: Eagle Farm - Pinkenba | D23: 30203103705 | E23: 3103705 | F23: 257 | G23: 338 | H23: =(G23-F23)/F23 -> 0.3151751
A24: BRISBANE | B24: 302031037 | C24: Eagle Farm - Pinkenba | D24: 30203103706 | E24: 3103706 | F24: 170 | G24: 225 | H24: =(G24-F24)/F24 -> 0.32352941
A25: BRISBANE | B25: 302031037 | C25: Eagle Farm - Pinkenba | D25: 30203103707 | E25: 3103707 | F25: 323 | G25: 368 | H25: =(G25-F25)/F25 -> 0.13931889
A26: BRISBANE | B26: 302031037 | C26: Eagle Farm - Pinkenba | D26: 30203103708 | E26: 3103708 | F26: 801 | G26: 1126 | H26: =(G26-F26)/F26 -> 0.40574282
A27: BRISBANE | B27: 304041098 | C27: Enoggera | D27: 30404109801 | E27: 3109801 | F27: 221 | G27: 214 | H27: =(G27-F27)/F27 -> -0.031674208
A28: BRISBANE | B28: 304041098 | C28: Enoggera | D28: 30404109802 | E28: 3109802 | F28: 337 | G28: 332 | H28: =(G28-F28)/F28 -> -0.014836795
A29: BRISBANE | B29: 304041098 | C29: Enoggera | D29: 30404109803 | E29: 3109803 | F29: 461 | G29: 475 | H29: =(G29-F29)/F29 -> 0.030368764
A30: BRISBANE | B30: 304041098 | C30: Enoggera | D30: 30404109809 | E30: 3109809 | F30: 423 | G30: 428 | H30: =(G30-F30)/F30 -> 0.011820331
A31: BRISBANE | B31: 304041098 | C31: Enoggera | D31: 30404109811 | E31: 3109811 | F31: 278 | G31: 285 | H31: =(G31-F31)/F31 -> 0.025179856
A32: BRISBANE | B32: 304041098 | C32: Enoggera | D32: 30404109812 | E32: 3109812 | F32: 570 | G32: 598 | H32: =(G32-F32)/F32 -> 0.049122807
A33: BRISBANE | B33: 305011105 | C33: Brisbane City | D33: 30501110501 | E33: 3110501 | F33: 349 | G33: 406 | H33: =(G33-F33)/F33 -> 0.16332378
A34: BRISBANE | B34: 305011105 | C34: Brisbane City | D34: 30501110505 | E34: 3110505 | F34: 82 | G34: 93 | H34: =(G34-F34)/F34 -> 0.13414634
... A43: BRISBANE | B43: 305011105 | C43: Brisbane City | D43: 30501110520 | E43: 3110520 | F43: 540 | G43: 557 | H43: =(G43-F43)/F43 -> 0.031481481
A44: BRISBANE | B44: 305011105 | C44: Brisbane City | D44: 30501110521 | E44: 3110521 | F44: 0 | G44: 0 | H44: 0
A45: BRISBANE | B45: 305011105 | C45: Brisbane City | D45: 30501110522 | E45: 3110522 | F45: 269 | G45: 305 | H45: =(G45-F45)/F45 -> 0.133829
A46: BRISBANE | B46: 305011105 | C46: Brisbane City | D46: 30501110523 | E46: 3110523 | F46: 203 | G46: 226 | H46: =(G46-F46)/F46 -> 0.11330049
A47: BRISBANE | B47: 305011105 | C47: Brisbane City | D47: 30501110526 | E47: 3110526 | F47: 302 | G47: 363 | H47: =(G47-F47)/F47 -> 0.20198675
A48: BRISBANE | B48: 305011105 | C48: Brisbane City | D48: 30501110527 | E48: 3110527 | F48: 535 | G48: 639 | H48: =(G48-F48)/F48 -> 0.19439252
A49: BRISBANE | B49: 305011105 | C49: Brisbane City | D49: 30501110528 | E49: 3110528 | F49: 153 | G49: 175 | H49: =(G49-F49)/F49 -> 0.14379085
A50: BRISBANE | B50: 305011105 | C50: Brisbane City | D50: 30501110529 | E50: 3110529 | F50: 299 | G50: 331 | H50: =(G50-F50)/F50 -> 0.10702341
A51: BRISBANE | B51: 305011105 | C51: Brisbane City | D51: 30501110530 | E51: 3110530 | F51: 158 | G51: 177 | H51: =(G51-F51)/F51 -> 0.12025316
A52: BRISBANE | B52: 305011105 | C52: Brisbane City | D52: 30501110531 | E52: 3110531 | F52: 169 | G52: 198 | H52: =(G52-F52)/F52 -> 0.17159763
A53: BRISBANE | B53: 305011105 | C53: Brisbane City | D53: 30501110532 | E53: 3110532 | F53: 162 | G53: 190 | H53: =(G53-F53)/F53 -> 0.17283951
...

Sheet Dickson
A1: Electorate | B1: Statistical Area Level 2 (SA2) Code (2021 SA2s) | C1: Statistical Area Level 2 (SA2) Name (2021 SA2s) | D1: Statistical Area Level 1 (SA1) Code (11-digit) (2021 SA1s) | E1: Statistical Area Level 1 (SA1) Code (7-digit) (2021 SA1s) | F1: Actual enrolments 28/07/2026 | G1: Projected enrolment 27/08/2028 | H1: Growth (%)
A2: DICKSON | B2: 302011023 | C2: Bridgeman Downs | D2: 30201102304 | E2: 3102304 | F2: 384 | G2: 379 | H2: =(G2-F2)/F2 -> -0.013020833
A3: DICKSON | B3: 302011023 | C3: Bridgeman Downs | D3: 30201102305 | E3: 3102305 | F3: 264 | G3: 273 | H3: =(G3-F3)/F3 -> 0.034090909 | J3: BD and McD | K3: =SUM(G2:G17) -> 4718
A4: DICKSON | B4: 302011023 | C4: Bridgeman Downs | D4: 30201102306 | E4: 3102306 | F4: 189 | G4: 208 | H4: =(G4-F4)/F4 -> 0.1005291
A5: DICKSON | B5: 302011023 | C5: Bridgeman Downs | D5: 30201102307 | E5: 3102307 | F5: 296 | G5: 316 | H5: =(G5-F5)/F5 -> 0.067567568
A6: DICKSON | B6: 302011023 | C6: Bridgeman Downs | D6: 30201102308 | E6: 3102308 | F6: 372 | G6: 367 | H6: =(G6-F6)/F6 -> -0.01344086
A7: DICKSON | B7: 302011023 | C7: Bridgeman Downs | D7: 30201102310 | E7: 3102310 | F7: 226 | G7: 236 | H7: =(G7-F7)/F7 -> 0.044247788
A8: DICKSON | B8: 302011023 | C8: Bridgeman Downs | D8: 30201102311 | E8: 3102311 | F8: 316 | G8: 343 | H8: =(G8-F8)/F8 -> 0.085443038
A9: DICKSON | B9: 302011023 | C9: Bridgeman Downs | D9: 30201102312 | E9: 3102312 | F9: 329 | G9: 354 | H9: =(G9-F9)/F9 -> 0.075987842
A10: DICKSON | B10: 302011023 | C10: Bridgeman Downs | D10: 30201102314 | E10: 3102314 | F10: 0 | G10: 0 | H10: 0
A11: DICKSON | B11: 302011023 | C11: Bridgeman Downs | D11: 30201102321 | E11: 3102321 | F11: 444 | G11: 474 | H11: =(G11-F11)/F11 -> 0.067567568
A12: DICKSON | B12: 302011023 | C12: Bridgeman Downs | D12: 30201102322 | E12: 3102322 | F12: 508 | G12: 515 | H12: =(G12-F12)/F12 -> 0.013779528
A13: DICKSON | B13: 302011023 | C13: Bridgeman Downs | D13: 30201102327 | E13: 3102327 | F13: 154 | G13: 166 | H13: =(G13-F13)/F13 -> 0.077922078
A14: DICKSON | B14: 302011026 | C14: McDowall | D14: 30201102602 | E14: 3102602 | F14: 328 | G14: 339 | H14: =(G14-F14)/F14 -> 0.033536585
A15: DICKSON | B15: 302011026 | C15: McDowall | D15: 30201102603 | E15: 3102603 | F15: 192 | G15: 207 | H15: =(G15-F15)/F15 -> 0.078125
A16: DICKSON | B16: 302011026 | C16: McDowall | D16: 30201102604 | E16: 3102604 | F16: 278 | G16: 277 | H16: =(G16-F16)/F16 -> -0.0035971223
A17: DICKSON | B17: 302011026 | C17: McDowall | D17: 30201102618 | E17: 3102618 | F17: 257 | G17: 264 | H17: =(G17-F17)/F17 -> 0.027237354
A18: DICKSON | B18: 314011382 | C18: Albany Creek | D18: 31401138201 | E18: 3138201 | F18: 454 | G18: 471 | H18: =(G18-F18)/F18 -> 0.037444934
A19: DICKSON | B19: 314011382 | C19: Albany Creek | D19: 31401138202 | E19: 3138202 | F19: 218 | G19: 221 | H19: =(G19-F19)/F19 -> 0.013761468
A20: DICKSON | B20: 314011382 | C20: Albany Creek | D20: 31401138203 | E20: 3138203 | F20: 279 | G20: 298 | H20: =(G20-F20)/F20 -> 0.068100358
A21: DICKSON | B21: 314011382 | C21: Albany Creek | D21: 31401138204 | E21: 3138204 | F21: 198 | G21: 200 | H21: =(G21-F21)/F21 -> 0.01010101
A22: DICKSON | B22: 314011382 | C22: Albany Creek | D22: 31401138205 | E22: 3138205 | F22: 388 | G22: 396 | H22: =(G22-F22)/F22 -> 0.020618557
... A39: DICKSON | B39: 314011382 | C39: Albany Creek | D39: 31401138223 | E39: 3138223 | F39: 218 | G39: 221 | H39: =(G39-F39)/F39 -> 0.013761468
A40: DICKSON | B40: 314011382 | C40: Albany Creek | D40: 31401138224 | E40: 3138224 | F40: 0 | G40: 0 | H40: 0
A41: DICKSON | B41: 314011382 | C41: Albany Creek | D41: 31401138225 | E41: 3138225 | F41: 506 | G41: 518 | H41: =(G41-F41)/F41 -> 0.023715415
A42: DICKSON | B42: 314011382 | C42: Albany Creek | D42: 31401138226 | E42: 3138226 | F42: 204 | G42: 207 | H42: =(G42-F42)/F42 -> 0.014705882
A43: DICKSON | B43: 314011382 | C43: Albany Creek | D43: 31401138227 | E43: 3138227 | F43: 257 | G43: 255 | H43: =(G43-F43)/F43 -> -0.0077821012
A44: DICKSON | B44: 314011382 | C44: Albany Creek | D44: 31401138228 | E44: 3138228 | F44: 284 | G44: 274 | H44: =(G44-F44)/F44 -> -0.035211268
A45: DICKSON | B45: 314011382 | C45: Albany Creek | D45: 31401138229 | E45: 3138229 | F45: 290 | G45: 294 | H45: =(G45-F45)/F45 -> 0.013793103
A46: DICKSON | B46: 314011382 | C46: Albany Creek | D46: 31401138230 | E46: 3138230 | F46: 250 | G46: 257 | H46: =(G46-F46)/F46 -> 0.028
A47: DICKSON | B47: 314011382 | C47: Albany Creek | D47: 31401138231 | E47: 3138231 | F47: 292 | G47: 296 | H47: =(G47-F47)/F47 -> 0.01369863
A48: DICKSON | B48: 314011382 | C48: Albany Creek | D48: 31401138232 | E48: 3138232 | F48: 213 | G48: 225 | H48: =(G48-F48)/F48 -> 0.056338028
A49: DICKSON | B49: 314011382 | C49: Albany Creek | D49: 31401138233 | E49: 3138233 | F49: 368 | G49: 369 | H49: =(G49-F49)/F49 -> 0.0027173913
A50: DICKSON | B50: 314011382 | C50: Albany Creek | D50: 31401138234 | E50: 3138234 | F50: 418 | G50: 421 | H50: =(G50-F50)/F50 -> 0.0071770335
A51: DICKSON | B51: 314011382 | C51: Albany Creek | D51: 31401138235 | E51: 3138235 | F51: 317 | G51: 329 | H51: =(G51-F51)/F51 -> 0.03785489
A52: DICKSON | B52: 314011382 | C52: Albany Creek | D52: 31401138236 | E52: 3138236 | F52: 236 | G52: 234 | H52: =(G52-F52)/F52 -> -0.0084745763
... A164: DICKSON | B164: 314011386 | C164: The Hills District | D164: 31401138626 | E164: 3138626 | F164: 150 | G164: 157 | H164: =(G164-F164)/F164 -> 0.046666667
A165: DICKSON | B165: 314011386 | C165: The Hills District | D165: 31401138627 | E165: 3138627 | F165: 0 | G165: 0 | H165: 0
A166: DICKSON | B166: 314011386 | C166: The Hills District | D166: 31401138628 | E166: 3138628 | F166: 237 | G166: 246 | H166: =(G166-F166)/F166 -> 0.037974684
A167: DICKSON | B167: 314011386 | C167: The Hills District | D167: 31401138629 | E167: 3138629 | F167: 256 | G167: 255 | H167: =(G167-F167)/F167 -> -0.00390625
...

Sheet Longman
A1: Electorate | B1: Statistical Area Level 2 (SA2) Code (2021 SA2s) | C1: Statistical Area Level 2 (SA2) Name (2021 SA2s) | D1: Statistical Area Level 1 (SA1) Code (11-digit) (2021 SA1s) | E1: Statistical Area Level 1 (SA1) Code (7-digit) (2021 SA1s) | F1: Actual enrolments 28/07/2026 | G1: Projected enrolment 27/08/2028 | H1: Growth (%)
A2: LONGMAN | B2: 313011362 | C2: Beachmere - Sandstone Point | D2: 31301136201 | E2: 3136201 | F2: 423 | G2: 440 | H2: =(G2-F2)/F2 -> 0.040189125
A3: LONGMAN | B3: 313011362 | C3: Beachmere - Sandstone Point | D3: 31301136202 | E3: 3136202 | F3: 574 | G3: 622 | H3: =(G3-F3)/F3 -> 0.083623693
A4: LONGMAN | B4: 313011362 | C4: Beachmere - Sandstone Point | D4: 31301136204 | E4: 3136204 | F4: 0 | G4: 0 | H4: 0
A5: LONGMAN | B5: 313011362 | C5: Beachmere - Sandstone Point | D5: 31301136205 | E5: 3136205 | F5: 669 | G5: 677 | H5: =(G5-F5)/F5 -> 0.011958146
A6: LONGMAN | B6: 313011362 | C6: Beachmere - Sandstone Point | D6: 31301136207 | E6: 3136207 | F6: 213 | G6: 217 | H6: =(G6-F6)/F6 -> 0.018779343
A7: LONGMAN | B7: 313011362 | C7: Beachmere - Sandstone Point | D7: 31301136208 | E7: 3136208 | F7: 493 | G7: 510 | H7: =(G7-F7)/F7 -> 0.034482759
A8: LONGMAN | B8: 313011362 | C8: Beachmere - Sandstone Point | D8: 31301136209 | E8: 3136209 | F8: 421 | G8: 437 | H8: =(G8-F8)/F8 -> 0.038004751
A9: LONGMAN | B9: 313011362 | C9: Beachmere - Sandstone Point | D9: 31301136210 | E9: 3136210 | F9: 330 | G9: 331 | H9: =(G9-F9)/F9 -> 0.003030303
A10: LONGMAN | B10: 313011362 | C10: Beachmere - Sandstone Point | D10: 31301136211 | E10: 3136211 | F10: 293 | G10: 306 | H10: =(G10-F10)/F10 -> 0.044368601
A11: LONGMAN | B11: 313011362 | C11: Beachmere - Sandstone Point | D11: 31301136212 | E11: 3136212 | F11: 241 | G11: 261 | H11: =(G11-F11)/F11 -> 0.082987552
A12: LONGMAN | B12: 313011362 | C12: Beachmere - Sandstone Point | D12: 31301136213 | E12: 3136213 | F12: 300 | G12: 309 | H12: =(G12-F12)/F12 -> 0.03
A13: LONGMAN | B13: 313011362 | C13: Beachmere - Sandstone Point | D13: 31301136214 | E13: 3136214 | F13: 635 | G13: 653 | H13: =(G13-F13)/F13 -> 0.028346457
A14: LONGMAN | B14: 313011362 | C14: Beachmere - Sandstone Point | D14: 31301136215 | E14: 3136215 | F14: 358 | G14: 368 | H14: =(G14-F14)/F14 -> 0.027932961
A15: LONGMAN | B15: 313011362 | C15: Beachmere - Sandstone Point | D15: 31301136216 | E15: 3136216 | F15: 339 | G15: 347 | H15: =(G15-F15)/F15 -> 0.02359882
A16: LONGMAN | B16: 313011362 | C16: Beachmere - Sandstone Point | D16: 31301136217 | E16: 3136217 | F16: 471 | G16: 493 | H16: =(G16-F16)/F16 -> 0.04670913
... A53: LONGMAN | B53: 313011363 | C53: Bribie Island | D53: 31301136318 | E53: 3136318 | F53: 365 | G53: 405 | H53: =(G53-F53)/F53 -> 0.10958904
A54: LONGMAN | B54: 313011363 | C54: Bribie Island | D54: 31301136321 | E54: 3136321 | F54: 0 | G54: 0 | H54: 0
A55: LONGMAN | B55: 313011363 | C55: Bribie Island | D55: 31301136323 | E55: 3136323 | F55: 469 | G55: 473 | H55: =(G55-F55)/F55 -> 0.0085287846
A56: LONGMAN | B56: 313011363 | C56: Bribie Island | D56: 31301136325 | E56: 3136325 | F56: 246 | G56: 259 | H56: =(G56-F56)/F56 -> 0.052845528
A57: LONGMAN | B57: 313011363 | C57: Bribie Island | D57: 31301136326 | E57: 3136326 | F57: 363 | G57: 381 | H57: =(G57-F57)/F57 -> 0.049586777
A58: LONGMAN | B58: 313011363 | C58: Bribie Island | D58: 31301136327 | E58: 3136327 | F58: 185 | G58: 194 | H58: =(G58-F58)/F58 -> 0.048648649
A59: LONGMAN | B59: 313011363 | C59: Bribie Island | D59: 31301136328 | E59: 3136328 | F59: 223 | G59: 246 | H59: =(G59-F59)/F59 -> 0.10313901
A60: LONGMAN | B60: 313011363 | C60: Bribie Island | D60: 31301136329 | E60: 3136329 | F60: 505 | G60: 512 | H60: =(G60-F60)/F60 -> 0.013861386
A61: LONGMAN | B61: 313011363 | C61: Bribie Island | D61: 31301136330 | E61: 3136330 | F61: 0 | G61: 0 | H61: 0
A62: LONGMAN | B62: 313011363 | C62: Bribie Island | D62: 31301136332 | E62: 3136332 | F62: 425 | G62: 451 | H62: =(G62-F62)/F62 -> 0.061176471
A63: LONGMAN | B63: 313011363 | C63: Bribie Island | D63: 31301136333 | E63: 3136333 | F63: 345 | G63: 363 | H63: =(G63-F63)/F63 -> 0.052173913
A64: LONGMAN | B64: 313011363 | C64: Bribie Island | D64: 31301136334 | E64: 3136334 | F64: 250 | G64: 269 | H64: =(G64-F64)/F64 -> 0.076
A65: LONGMAN | B65: 313011363 | C65: Bribie Island | D65: 31301136335 | E65: 3136335 | F65: 411 | G65: 426 | H65: =(G65-F65)/F65 -> 0.03649635
A66: LONGMAN | B66: 313011363 | C66: Bribie Island | D66: 31301136336 | E66: 3136336 | F66: 594 | G66: 603 | H66: =(G66-F66)/F66 -> 0.015151515
A67: LONGMAN | B67: 313011363 | C67: Bribie Island | D67: 31301136337 | E67: 3136337 | F67: 201 | G67: 212 | H67: =(G67-F67)/F67 -> 0.054726368
A68: LONGMAN | B68: 313011363 | C68: Bribie Island | D68: 31301136338 | E68: 3136338 | F68: 386 | G68: 415 | H68: =(G68-F68)/F68 -> 0.075129534
A69: LONGMAN | B69: 313011363 | C69: Bribie Island | D69: 31301136339 | E69: 3136339 | F69: 242 | G69: 252 | H69: =(G69-F69)/F69 -> 0.041322314
A70: LONGMAN | B70: 313011363 | C70: Bribie Island | D70: 31301136340 | E70: 3136340 | F70: 398 | G70: 415 | H70: =(G70-F70)/F70 -> 0.042713568
A71: LONGMAN | B71: 313011363 | C71: Bribie Island | D71: 31301136341 | E71: 3136341 | F71: 385 | G71: 393 | H71: =(G71-F71)/F71 -> 0.020779221
A72: LONGMAN | B72: 313011363 | C72: Bribie Island | D72: 31301136342 | E72: 3136342 | F72: 271 | G72: 287 | H72: =(G72-F72)/F72 -> 0.05904059
A73: LONGMAN | B73: 313011363 | C73: Bribie Island | D73: 31301136344 | E73: 3136344 | F73: 140 | G73: 153 | H73: =(G73-F73)/F73 -> 0.092857143
... A85: LONGMAN | B85: 313011363 | C85: Bribie Island | D85: 31301136357 | E85: 3136357 | F85: 153 | G85: 163 | H85: =(G85-F85)/F85 -> 0.065359477
A86: LONGMAN | B86: 313011363 | C86: Bribie Island | D86: 31301136358 | E86: 3136358 | F86: 0 | G86: 0 | H86: 0
A87: LONGMAN | B87: 313011363 | C87: Bribie Island | D87: 31301136359 | E87: 3136359 | F87: 665 | G87: 694 | H87: =(G87-F87)/F87 -> 0.043609023
...

Sheet Lilley
A1: Electorate | B1: Statistical Area Level 2 (SA2) Code (2021 SA2s) | C1: Statistical Area Level 2 (SA2) Name (2021 SA2s) | D1: Statistical Area Level 1 (SA1) Code (11-digit) (2021 SA1s) | E1: Statistical Area Level 1 (SA1) Code (7-digit) (2021 SA1s) | F1: Actual enrolments 28/07/2026 | G1: Projected enrolment 27/08/2028 | H1: Growth (%)
A2: LILLEY | B2: 302011023 | C2: Bridgeman Downs | D2: 30201102301 | E2: 3102301 | F2: 402 | G2: 418 | H2: =(G2-F2)/F2 -> 0.039800995
A3: LILLEY | B3: 302011023 | C3: Bridgeman Downs | D3: 30201102302 | E3: 3102302 | F3: 263 | G3: 282 | H3: =(G3-F3)/F3 -> 0.072243346
A4: LILLEY | B4: 302011023 | C4: Bridgeman Downs | D4: 30201102303 | E4: 3102303 | F4: 245 | G4: 260 | H4: =(G4-F4)/F4 -> 0.06122449
A5: LILLEY | B5: 302011023 | C5: Bridgeman Downs | D5: 30201102311 | E5: 3102311 | F5: 0 | G5: 0 | H5: 0
A6: LILLEY | B6: 302011023 | C6: Bridgeman Downs | D6: 30201102312 | E6: 3102312 | F6: 0 | G6: 0 | H6: 0
A7: LILLEY | B7: 302011023 | C7: Bridgeman Downs | D7: 30201102314 | E7: 3102314 | F7: 189 | G7: 205 | H7: =(G7-F7)/F7 -> 0.084656085
A8: LILLEY | B8: 302011023 | C8: Bridgeman Downs | D8: 30201102321 | E8: 3102321 | F8: 0 | G8: 0 | H8: 0
A9: LILLEY | B9: 302011025 | C9: Everton Park | D9: 30201102501 | E9: 3102501 | F9: 335 | G9: 351 | H9: =(G9-F9)/F9 -> 0.047761194
A10: LILLEY | B10: 302011025 | C10: Everton Park | D10: 30201102502 | E10: 3102502 | F10: 416 | G10: 407 | H10: =(G10-F10)/F10 -> -0.021634615
A11: LILLEY | B11: 302011025 | C11: Everton Park | D11: 30201102503 | E11: 3102503 | F11: 654 | G11: 691 | H11: =(G11-F11)/F11 -> 0.056574924
A12: LILLEY | B12: 302011025 | C12: Everton Park | D12: 30201102504 | E12: 3102504 | F12: 211 | G12: 217 | H12: =(G12-F12)/F12 -> 0.028436019
A13: LILLEY | B13: 302011025 | C13: Everton Park | D13: 30201102505 | E13: 3102505 | F13: 602 | G13: 666 | H13: =(G13-F13)/F13 -> 0.10631229
A14: LILLEY | B14: 302011025 | C14: Everton Park | D14: 30201102506 | E14: 3102506 | F14: 252 | G14: 256 | H14: =(G14-F14)/F14 -> 0.015873016 | L14: =SUM($G9:$G27) -> 8049
A15: LILLEY | B15: 302011025 | C15: Everton Park | D15: 30201102507 | E15: 3102507 | F15: 807 | G15: 807 | H15: =(G15-F15)/F15 -> 0
A16: LILLEY | B16: 302011025 | C16: Everton Park | D16: 30201102508 | E16: 3102508 | F16: 472 | G16: 477 | H16: =(G16-F16)/F16 -> 0.01059322
A17: LILLEY | B17: 302011025 | C17: Everton Park | D17: 30201102509 | E17: 3102509 | F17: 460 | G17: 483 | H17: =(G17-F17)/F17 -> 0.05
A18: LILLEY | B18: 302011025 | C18: Everton Park | D18: 30201102510 | E18: 3102510 | F18: 476 | G18: 466 | H18: =(G18-F18)/F18 -> -0.021008403
A19: LILLEY | B19: 302011025 | C19: Everton Park | D19: 30201102511 | E19: 3102511 | F19: 298 | G19: 297 | H19: =(G19-F19)/F19 -> -0.0033557047
A20: LILLEY | B20: 302011025 | C20: Everton Park | D20: 30201102512 | E20: 3102512 | F20: 389 | G20: 381 | H20: =(G20-F20)/F20 -> -0.020565553
A21: LILLEY | B21: 302011025 | C21: Everton Park | D21: 30201102513 | E21: 3102513 | F21: 245 | G21: 256 | H21: =(G21-F21)/F21 -> 0.044897959
A22: LILLEY | B22: 302011025 | C22: Everton Park | D22: 30201102514 | E22: 3102514 | F22: 328 | G22: 350 | H22: =(G22-F22)/F22 -> 0.067073171
A23: LILLEY | B23: 302011025 | C23: Everton Park | D23: 30201102515 | E23: 3102515 | F23: 328 | G23: 346 | H23: =(G23-F23)/F23 -> 0.054878049
A24: LILLEY | B24: 302011025 | C24: Everton Park | D24: 30201102516 | E24: 3102516 | F24: 221 | G24: 223 | H24: =(G24-F24)/F24 -> 0.0090497738
A25: LILLEY | B25: 302011025 | C25: Everton Park | D25: 30201102517 | E25: 3102517 | F25: 246 | G25: 261 | H25: =(G25-F25)/F25 -> 0.06097561
A26: LILLEY | B26: 302011025 | C26: Everton Park | D26: 30201102518 | E26: 3102518 | F26: 617 | G26: 671 | H26: =(G26-F26)/F26 -> 0.087520259
... A53: LILLEY | B53: 302021027 | C53: Aspley | D53: 30202102718 | E53: 3102718 | F53: 399 | G53: 400 | H53: =(G53-F53)/F53 -> 0.0025062657
A54: LILLEY | B54: 302021027 | C54: Aspley | D54: 30202102720 | E54: 3102720 | F54: 0 | G54: 0 | H54: 0
A55: LILLEY | B55: 302021027 | C55: Aspley | D55: 30202102721 | E55: 3102721 | F55: 192 | G55: 191 | H55: =(G55-F55)/F55 -> -0.0052083333
A56: LILLEY | B56: 302021027 | C56: Aspley | D56: 30202102722 | E56: 3102722 | F56: 262 | G56: 269 | H56: =(G56-F56)/F56 -> 0.026717557
A57: LILLEY | B57: 302021027 | C57: Aspley | D57: 30202102723 | E57: 3102723 | F57: 262 | G57: 272 | H57: =(G57-F57)/F57 -> 0.038167939
A58: LILLEY | B58: 302021027 | C58: Aspley | D58: 30202102724 | E58: 3102724 | F58: 315 | G58: 314 | H58: =(G58-F58)/F58 -> -0.0031746032
A59: LILLEY | B59: 302021027 | C59: Aspley | D59: 30202102725 | E59: 3102725 | F59: 198 | G59: 198 | H59: =(G59-F59)/F59 -> 0
A60: LILLEY | B60: 302021027 | C60: Aspley | D60: 30202102726 | E60: 3102726 | F60: 316 | G60: 312 | H60: =(G60-F60)/F60 -> -0.012658228
A61: LILLEY | B61: 302021027 | C61: Aspley | D61: 30202102727 | E61: 3102727 | F61: 216 | G61: 213 | H61: =(G61-F61)/F61 -> -0.013888889
A62: LILLEY | B62: 302021027 | C62: Aspley | D62: 30202102728 | E62: 3102728 | F62: 248 | G62: 247 | H62: =(G62-F62)/F62 -> -0.0040322581
A63: LILLEY | B63: 302021027 | C63: Aspley | D63: 30202102729 | E63: 3102729 | F63: 316 | G63: 307 | H63: =(G63-F63)/F63 -> -0.028481013
A64: LILLEY | B64: 302021027 | C64: Aspley | D64: 30202102730 | E64: 3102730 | F64: 275 | G64: 280 | H64: =(G64-F64)/F64 -> 0.018181818
A65: LILLEY | B65: 302021027 | C65: Aspley | D65: 30202102731 | E65: 3102731 | F65: 352 | G65: 353 | H65: =(G65-F65)/F65 -> 0.0028409091
A66: LILLEY | B66: 302021027 | C66: Aspley | D66: 30202102732 | E66: 3102732 | F66: 176 | G66: 182 | H66: =(G66-F66)/F66 -> 0.034090909
...

Sheet Ryan
A1: Electorate | B1: Statistical Area Level 2 (SA2) Code (2021 SA2s) | C1: Statistical Area Level 2 (SA2) Name (2021 SA2s) | D1: Statistical Area Level 1 (SA1) Code (11-digit) (2021 SA1s) | E1: Statistical Area Level 1 (SA1) Code (7-digit) (2021 SA1s) | F1: Actual enrolments 28/07/2026 | G1: Projected enrolment 27/08/2028 | H1: Growth (%)
A2: RYAN | B2: 304021086 | C2: Bellbowrie - Moggill | D2: 30402108601 | E2: 3108601 | F2: 343 | G2: 357 | H2: =(G2-F2)/F2 -> 0.040816327
A3: RYAN | B3: 304021086 | C3: Bellbowrie - Moggill | D3: 30402108603 | E3: 3108603 | F3: 202 | G3: 203 | H3: =(G3-F3)/F3 -> 0.004950495
A4: RYAN | B4: 304021086 | C4: Bellbowrie - Moggill | D4: 30402108604 | E4: 3108604 | F4: 290 | G4: 289 | H4: =(G4-F4)/F4 -> -0.0034482759
A5: RYAN | B5: 304021086 | C5: Bellbowrie - Moggill | D5: 30402108605 | E5: 3108605 | F5: 463 | G5: 476 | H5: =(G5-F5)/F5 -> 0.028077754
A6: RYAN | B6: 304021086 | C6: Bellbowrie - Moggill | D6: 30402108611 | E6: 3108611 | F6: 247 | G6: 247 | H6: =(G6-F6)/F6 -> 0
A7: RYAN | B7: 304021086 | C7: Bellbowrie - Moggill | D7: 30402108612 | E7: 3108612 | F7: 340 | G7: 341 | H7: =(G7-F7)/F7 -> 0.0029411765
A8: RYAN | B8: 304021086 | C8: Bellbowrie - Moggill | D8: 30402108613 | E8: 3108613 | F8: 386 | G8: 374 | H8: =(G8-F8)/F8 -> -0.031088083
A9: RYAN | B9: 304021086 | C9: Bellbowrie - Moggill | D9: 30402108614 | E9: 3108614 | F9: 421 | G9: 441 | H9: =(G9-F9)/F9 -> 0.047505938
A10: RYAN | B10: 304021086 | C10: Bellbowrie - Moggill | D10: 30402108615 | E10: 3108615 | F10: 308 | G10: 324 | H10: =(G10-F10)/F10 -> 0.051948052
A11: RYAN | B11: 304021086 | C11: Bellbowrie - Moggill | D11: 30402108618 | E11: 3108618 | F11: 252 | G11: 250 | H11: =(G11-F11)/F11 -> -0.0079365079
A12: RYAN | B12: 304021086 | C12: Bellbowrie - Moggill | D12: 30402108619 | E12: 3108619 | F12: 307 | G12: 317 | H12: =(G12-F12)/F12 -> 0.03257329
A13: RYAN | B13: 304021086 | C13: Bellbowrie - Moggill | D13: 30402108620 | E13: 3108620 | F13: 239 | G13: 249 | H13: =(G13-F13)/F13 -> 0.041841004
... A18: RYAN | B18: 304021086 | C18: Bellbowrie - Moggill | D18: 30402108625 | E18: 3108625 | F18: 401 | G18: 397 | H18: =(G18-F18)/F18 -> -0.0099750623
A19: RYAN | B19: 304021086 | C19: Bellbowrie - Moggill | D19: 30402108626 | E19: 3108626 | F19: 0 | G19: 0 | H19: 0
A20: RYAN | B20: 304021086 | C20: Bellbowrie - Moggill | D20: 30402108627 | E20: 3108627 | F20: 312 | G20: 334 | H20: =(G20-F20)/F20 -> 0.070512821
A21: RYAN | B21: 304021086 | C21: Bellbowrie - Moggill | D21: 30402108628 | E21: 3108628 | F21: 325 | G21: 328 | H21: =(G21-F21)/F21 -> 0.0092307692
A22: RYAN | B22: 304021086 | C22: Bellbowrie - Moggill | D22: 30402108629 | E22: 3108629 | F22: 285 | G22: 287 | H22: =(G22-F22)/F22 -> 0.0070175439
A23: RYAN | B23: 304021086 | C23: Bellbowrie - Moggill | D23: 30402108630 | E23: 3108630 | F23: 265 | G23: 267 | H23: =(G23-F23)/F23 -> 0.0075471698
A24: RYAN | B24: 304021086 | C24: Bellbowrie - Moggill | D24: 30402108631 | E24: 3108631 | F24: 272 | G24: 273 | H24: =(G24-F24)/F24 -> 0.0036764706
A25: RYAN | B25: 304021086 | C25: Bellbowrie - Moggill | D25: 30402108632 | E25: 3108632 | F25: 364 | G25: 375 | H25: =(G25-F25)/F25 -> 0.03021978
A26: RYAN | B26: 304021086 | C26: Bellbowrie - Moggill | D26: 30402108633 | E26: 3108633 | F26: 266 | G26: 277 | H26: =(G26-F26)/F26 -> 0.041353383
A27: RYAN | B27: 304021086 | C27: Bellbowrie - Moggill | D27: 30402108634 | E27: 3108634 | F27: 207 | G27: 217 | H27: =(G27-F27)/F27 -> 0.048309179
A28: RYAN | B28: 304021086 | C28: Bellbowrie - Moggill | D28: 30402108635 | E28: 3108635 | F28: 293 | G28: 286 | H28: =(G28-F28)/F28 -> -0.023890785
A29: RYAN | B29: 304021087 | C29: Brookfield - Kenmore Hills | D29: 30402108701 | E29: 3108701 | F29: 41 | G29: 40 | H29: =(G29-F29)/F29 -> -0.024390244
A30: RYAN | B30: 304021087 | C30: Brookfield - Kenmore Hills | D30: 30402108702 | E30: 3108702 | F30: 360 | G30: 374 | H30: =(G30-F30)/F30 -> 0.038888889
A31: RYAN | B31: 304021087 | C31: Brookfield - Kenmore Hills | D31: 30402108703 | E31: 3108703 | F31: 282 | G31: 289 | H31: =(G31-F31)/F31 -> 0.024822695
... A240: RYAN | B240: 304041101 | C240: Mitchelton | D240: 30404110121 | E240: 3110121 | F240: 57 | G240: 58 | H240: =(G240-F240)/F240 -> 0.01754386
A241: RYAN | B241: 304041101 | C241: Mitchelton | D241: 30404110122 | E241: 3110122 | F241: 0 | G241: 0 | H241: 0
A242: RYAN | B242: 304041102 | C242: Mount Coot-tha | D242: 30404110201 | E242: 3110201 | F242: 0 | G242: 0 | H242: 0
A243: RYAN | B243: 304041103 | C243: The Gap | D243: 30404110301 | E243: 3110301 | F243: 137 | G243: 138 | H243: =(G243-F243)/F243 -> 0.0072992701
A244: RYAN | B244: 304041103 | C244: The Gap | D244: 30404110302 | E244: 3110302 | F244: 296 | G244: 299 | H244: =(G244-F244)/F244 -> 0.010135135
A245: RYAN | B245: 304041103 | C245: The Gap | D245: 30404110303 | E245: 3110303 | F245: 470 | G245: 475 | H245: =(G245-F245)/F245 -> 0.010638298
A246: RYAN | B246: 304041103 | C246: The Gap | D246: 30404110304 | E246: 3110304 | F246: 345 | G246: 341 | H246: =(G246-F246)/F246 -> -0.011594203
A247: RYAN | B247: 304041103 | C247: The Gap | D247: 30404110305 | E247: 3110305 | F247: 256 | G247: 260 | H247: =(G247-F247)/F247 -> 0.015625
A248: RYAN | B248: 304041103 | C248: The Gap | D248: 30404110306 | E248: 3110306 | F248: 432 | G248: 424 | H248: =(G248-F248)/F248 -> -0.018518519
A249: RYAN | B249: 304041103 | C249: The Gap | D249: 30404110307 | E249: 3110307 | F249: 252 | G249: 255 | H249: =(G249-F249)/F249 -> 0.011904762
A250: RYAN | B250: 304041103 | C250: The Gap | D250: 30404110308 | E250: 3110308 | F250: 371 | G250: 375 | H250: =(G250-F250)/F250 -> 0.010781671
A251: RYAN | B251: 304041103 | C251: The Gap | D251: 30404110309 | E251: 3110309 | F251: 407 | G251: 397 | H251: =(G251-F251)/F251 -> -0.024570025
A252: RYAN | B252: 304041103 | C252: The Gap | D252: 30404110310 | E252: 3110310 | F252: 265 | G252: 257 | H252: =(G252-F252)/F252 -> -0.030188679
...

Sheet Petrie
A1: Electorate | B1: Statistical Area Level 2 (SA2) Code (2021 SA2s) | C1: Statistical Area Level 2 (SA2) Name (2021 SA2s) | D1: Statistical Area Level 1 (SA1) Code (11-digit) (2021 SA1s) | E1: Statistical Area Level 1 (SA1) Code (7-digit) (2021 SA1s) | F1: Actual enrolments 28/07/2026 | G1: Projected enrolment 27/08/2028 | H1: Growth (%)
A2: PETRIE | B2: 302011022 | C2: Bald Hills | D2: 30201102201 | E2: 3102201 | F2: 5 | G2: 5 | H2: =(G2-F2)/F2 -> 0
A3: PETRIE | B3: 302011022 | C3: Bald Hills | D3: 30201102202 | E3: 3102202 | F3: 0 | G3: 0 | H3: 0
A4: PETRIE | B4: 302011022 | C4: Bald Hills | D4: 30201102205 | E4: 3102205 | F4: 302 | G4: 307 | H4: =(G4-F4)/F4 -> 0.016556291
A5: PETRIE | B5: 302011022 | C5: Bald Hills | D5: 30201102206 | E5: 3102206 | F5: 237 | G5: 234 | H5: =(G5-F5)/F5 -> -0.012658228
A6: PETRIE | B6: 302011022 | C6: Bald Hills | D6: 30201102207 | E6: 3102207 | F6: 291 | G6: 293 | H6: =(G6-F6)/F6 -> 0.0068728522 | J6: BH | K6: =SUM(G2:G14)+SUM(G16:G26) -> 5851
A7: PETRIE | B7: 302011022 | C7: Bald Hills | D7: 30201102208 | E7: 3102208 | F7: 262 | G7: 264 | H7: =(G7-F7)/F7 -> 0.0076335878
A8: PETRIE | B8: 302011022 | C8: Bald Hills | D8: 30201102209 | E8: 3102209 | F8: 219 | G8: 218 | H8: =(G8-F8)/F8 -> -0.00456621
A9: PETRIE | B9: 302011022 | C9: Bald Hills | D9: 30201102210 | E9: 3102210 | F9: 275 | G9: 288 | H9: =(G9-F9)/F9 -> 0.047272727
A10: PETRIE | B10: 302011022 | C10: Bald Hills | D10: 30201102212 | E10: 3102212 | F10: 221 | G10: 224 | H10: =(G10-F10)/F10 -> 0.013574661
A11: PETRIE | B11: 302011022 | C11: Bald Hills | D11: 30201102213 | E11: 3102213 | F11: 222 | G11: 219 | H11: =(G11-F11)/F11 -> -0.013513514
A12: PETRIE | B12: 302011022 | C12: Bald Hills | D12: 30201102214 | E12: 3102214 | F12: 222 | G12: 220 | H12: =(G12-F12)/F12 -> -0.009009009
A13: PETRIE | B13: 302011022 | C13: Bald Hills | D13: 30201102215 | E13: 3102215 | F13: 425 | G13: 439 | H13: =(G13-F13)/F13 -> 0.032941176
A14: PETRIE | B14: 302011022 | C14: Bald Hills | D14: 30201102217 | E14: 3102217 | F14: 208 | G14: 214 | H14: =(G14-F14)/F14 -> 0.028846154
A15: PETRIE | B15: 302011022 | C15: Bald Hills | D15: 30201102219 | E15: 3102219 | F15: 6 | G15: 6 | H15: =(G15-F15)/F15 -> 0
A16: PETRIE | B16: 302011022 | C16: Bald Hills | D16: 30201102220 | E16: 3102220 | F16: 0 | G16: 0 | H16: 0
A17: PETRIE | B17: 302011022 | C17: Bald Hills | D17: 30201102221 | E17: 3102221 | F17: 324 | G17: 328 | H17: =(G17-F17)/F17 -> 0.012345679
A18: PETRIE | B18: 302011022 | C18: Bald Hills | D18: 30201102222 | E18: 3102222 | F18: 294 | G18: 292 | H18: =(G18-F18)/F18 -> -0.0068027211
A19: PETRIE | B19: 302011022 | C19: Bald Hills | D19: 30201102223 | E19: 3102223 | F19: 252 | G19: 269 | H19: =(G19-F19)/F19 -> 0.067460317
A20: PETRIE | B20: 302011022 | C20: Bald Hills | D20: 30201102224 | E20: 3102224 | F20: 371 | G20: 388 | H20: =(G20-F20)/F20 -> 0.045822102
A21: PETRIE | B21: 302011022 | C21: Bald Hills | D21: 30201102225 | E21: 3102225 | F21: 250 | G21: 271 | H21: =(G21-F21)/F21 -> 0.084
A22: PETRIE | B22: 302011022 | C22: Bald Hills | D22: 30201102226 | E22: 3102226 | F22: 259 | G22: 266 | H22: =(G22-F22)/F22 -> 0.027027027
A23: PETRIE | B23: 302011022 | C23: Bald Hills | D23: 30201102227 | E23: 3102227 | F23: 332 | G23: 353 | H23: =(G23-F23)/F23 -> 0.063253012
A24: PETRIE | B24: 302011022 | C24: Bald Hills | D24: 30201102228 | E24: 3102228 | F24: 210 | G24: 219 | H24: =(G24-F24)/F24 -> 0.042857143
A25: PETRIE | B25: 302011022 | C25: Bald Hills | D25: 30201102229 | E25: 3102229 | F25: 307 | G25: 309 | H25: =(G25-F25)/F25 -> 0.006514658
A26: PETRIE | B26: 302011022 | C26: Bald Hills | D26: 30201102230 | E26: 3102230 | F26: 229 | G26: 231 | H26: =(G26-F26)/F26 -> 0.0087336245
A27: PETRIE | B27: 302011023 | C27: Bridgeman Downs | D27: 30201102309 | E27: 3102309 | F27: 387 | G27: 418 | H27: =(G27-F27)/F27 -> 0.080103359
A28: PETRIE | B28: 302011023 | C28: Bridgeman Downs | D28: 30201102315 | E28: 3102315 | F28: 715 | G28: 774 | H28: =(G28-F28)/F28 -> 0.082517483
... A67: PETRIE | B67: 302021027 | C67: Aspley | D67: 30202102735 | E67: 3102735 | F67: 217 | G67: 215 | H67: =(G67-F67)/F67 -> -0.0092165899
A68: PETRIE | B68: 302021027 | C68: Aspley | D68: 30202102736 | E68: 3102736 | F68: 0 | G68: 0 | H68: 0
A69: PETRIE | B69: 302021027 | C69: Aspley | D69: 30202102737 | E69: 3102737 | F69: 272 | G69: 267 | H69: =(G69-F69)/F69 -> -0.018382353
A70: PETRIE | B70: 302021027 | C70: Aspley | D70: 30202102739 | E70: 3102739 | F70: 158 | G70: 162 | H70: =(G70-F70)/F70 -> 0.025316456
A71: PETRIE | B71: 302021027 | C71: Aspley | D71: 30202102740 | E71: 3102740 | F71: 139 | G71: 141 | H71: =(G71-F71)/F71 -> 0.014388489
A72: PETRIE | B72: 302041041 | C72: Bracken Ridge | D72: 30204104101 | E72: 3104101 | F72: 265 | G72: 256 | H72: =(G72-F72)/F72 -> -0.033962264
A73: PETRIE | B73: 302041041 | C73: Bracken Ridge | D73: 30204104102 | E73: 3104102 | F73: 423 | G73: 426 | H73: =(G73-F73)/F73 -> 0.0070921986
A74: PETRIE | B74: 302041041 | C74: Bracken Ridge | D74: 30204104103 | E74: 3104103 | F74: 300 | G74: 309 | H74: =(G74-F74)/F74 -> 0.03
A75: PETRIE | B75: 302041041 | C75: Bracken Ridge | D75: 30204104104 | E75: 3104104 | F75: 228 | G75: 231 | H75: =(G75-F75)/F75 -> 0.013157895
A76: PETRIE | B76: 302041041 | C76: Bracken Ridge | D76: 30204104105 | E76: 3104105 | F76: 260 | G76: 255 | H76: =(G76-F76)/F76 -> -0.019230769
A77: PETRIE | B77: 302041041 | C77: Bracken Ridge | D77: 30204104106 | E77: 3104106 | F77: 236 | G77: 236 | H77: =(G77-F77)/F77 -> 0
A78: PETRIE | B78: 302041041 | C78: Bracken Ridge | D78: 30204104107 | E78: 3104107 | F78: 195 | G78: 193 | H78: =(G78-F78)/F78 -> -0.01025641
...
